BEGIN:VCALENDAR
VERSION:2.0
PRODID:-//Z Club Joshua Tree • Live Music and Cocktails - ECPv6.14.0//NONSGML v1.0//EN
CALSCALE:GREGORIAN
METHOD:PUBLISH
X-WR-CALNAME:Z Club Joshua Tree • Live Music and Cocktails
X-ORIGINAL-URL:https://zclub.elementor.cloud
X-WR-CALDESC:Events for Z Club Joshua Tree • Live Music and Cocktails
REFRESH-INTERVAL;VALUE=DURATION:PT1H
X-Robots-Tag:noindex
X-PUBLISHED-TTL:PT1H
BEGIN:VTIMEZONE
TZID:America/Los_Angeles
BEGIN:DAYLIGHT
TZOFFSETFROM:-0800
TZOFFSETTO:-0700
TZNAME:PDT
DTSTART:20260308T100000
END:DAYLIGHT
BEGIN:STANDARD
TZOFFSETFROM:-0700
TZOFFSETTO:-0800
TZNAME:PST
DTSTART:20261101T090000
END:STANDARD
END:VTIMEZONE
BEGIN:VEVENT
DTSTART;TZID=America/Los_Angeles:20260422T193000
DTEND;TZID=America/Los_Angeles:20260422T220000
DTSTAMP:20260420T060443
CREATED:20260405T201635Z
LAST-MODIFIED:20260415T030008Z
UID:1485-1776886200-1776895200@zclub.elementor.cloud
SUMMARY:Blues Jam with Bryan Zee
DESCRIPTION:
URL:https://zclub.elementor.cloud/event/blues-jam-with-bryan-zee-6/
LOCATION:Z Club Joshua Tree\, 61877 29 Palms Hwy.\, Joshua Tree\, CA\, 92252\, United States
CATEGORIES:Blues Jam
ATTACH;FMTTYPE=image/png:https://zclub.elementor.cloud/wp-content/uploads/2026/01/Screenshot-2026-01-25-at-2.57.20-PM.png
END:VEVENT
BEGIN:VEVENT
DTSTART;TZID=America/Los_Angeles:20260424T193000
DTEND;TZID=America/Los_Angeles:20260424T220000
DTSTAMP:20260420T060443
CREATED:20260405T201810Z
LAST-MODIFIED:20260405T201810Z
UID:1487-1777059000-1777068000@zclub.elementor.cloud
SUMMARY:Le Jazzanne
DESCRIPTION:
URL:https://zclub.elementor.cloud/event/le-jazzanne-39/
LOCATION:Z Club Joshua Tree\, 61877 29 Palms Hwy.\, Joshua Tree\, CA\, 92252\, United States
CATEGORIES:Le Jazzanne
ATTACH;FMTTYPE=image/jpeg:https://zclub.elementor.cloud/wp-content/uploads/2026/04/IMG_1947.jpg
END:VEVENT
BEGIN:VEVENT
DTSTART;TZID=America/Los_Angeles:20260425T193000
DTEND;TZID=America/Los_Angeles:20260425T220000
DTSTAMP:20260420T060443
CREATED:20260415T030749Z
LAST-MODIFIED:20260418T212603Z
UID:1504-1777145400-1777154400@zclub.elementor.cloud
SUMMARY:Wayne Cobham
DESCRIPTION:After more than 35 years as an entertainer\, Wayne Cobham continues to find deep joy in performing\, a passion that began with the trumpet in his early childhood. In the late 1970s\, he expanded his career into computer programming\, becoming a pioneer in the emerging MIDI field while working across genres like Hip-Hop\, R&B\, Jazz\, Pop\, and Gospel as a consultant\, producer\, and educator. His contributions earned him four Grammy Awards for work on Michael Jackson’s Dangerous and HIStory albums\, along with recognition for standout trumpet performances. Cobham has toured globally with an extensive list of major artists and contributed to numerous studio recordings and productions\, including work with Stevie Wonder\, Paul Simon\, and John Mayer. Still in high demand\, he actively performs with his Cobham Coalition band and has spent the past decade playing with Steve Jordan’s SSBX Band in support of the Michael J. Fox Parkinson’s Foundation.
URL:https://zclub.elementor.cloud/event/wayne-cobham/
LOCATION:Z Club Joshua Tree\, 61877 29 Palms Hwy.\, Joshua Tree\, CA\, 92252\, United States
ATTACH;FMTTYPE=image/png:https://zclub.elementor.cloud/wp-content/uploads/2026/04/Screenshot-2026-04-14-at-8.06.18-PM.png
END:VEVENT
BEGIN:VEVENT
DTSTART;TZID=America/Los_Angeles:20260426T193000
DTEND;TZID=America/Los_Angeles:20260426T220000
DTSTAMP:20260420T060443
CREATED:20260418T211638Z
LAST-MODIFIED:20260418T213644Z
UID:1510-1777231800-1777240800@zclub.elementor.cloud
SUMMARY:Kittys Music
DESCRIPTION:kitty has performed in 17 countries\, winning awards for recording projects in italy and wales. kitty’s worked with bands les minouches atomiques\, the jiveoholics\, ebony bones\, yolanda eyama’s afro world groove\, playing festivals around the world. kitty’s own projects include triflesky\, kitty’s trio (albums on kittysmusic.bandcamp.com)\, kitty’s little big band (soundcloud/youtube) and kitty & the purramours. styles range from jazz and swing to blues\, gospel\, edm\, triphop\, ambient house and more.
URL:https://zclub.elementor.cloud/event/kittys-music/
LOCATION:Z Club Joshua Tree\, 61877 29 Palms Hwy.\, Joshua Tree\, CA\, 92252\, United States
CATEGORIES:Kittys Music
ATTACH;FMTTYPE=image/jpeg:https://zclub.elementor.cloud/wp-content/uploads/2026/04/IMG_2352.jpg
END:VEVENT
BEGIN:VEVENT
DTSTART;TZID=America/Los_Angeles:20260430T183000
DTEND;TZID=America/Los_Angeles:20260430T220000
DTSTAMP:20260420T060443
CREATED:20260415T030308Z
LAST-MODIFIED:20260415T030308Z
UID:1501-1777573800-1777586400@zclub.elementor.cloud
SUMMARY:Desert Unplugged Hosted by Palo Xanto
DESCRIPTION:
URL:https://zclub.elementor.cloud/event/desert-unplugged-hosted-by-palo-xanto-8/
LOCATION:Z Club Joshua Tree\, 61877 29 Palms Hwy.\, Joshua Tree\, CA\, 92252\, United States
CATEGORIES:Desert Unplugged
ATTACH;FMTTYPE=image/jpeg:https://zclub.elementor.cloud/wp-content/uploads/2026/04/IMG_2258.jpg
END:VEVENT
BEGIN:VEVENT
DTSTART;TZID=America/Los_Angeles:20260501T090000
DTEND;TZID=America/Los_Angeles:20260501T130000
DTSTAMP:20260420T060443
CREATED:20260405T205047Z
LAST-MODIFIED:20260405T211037Z
UID:1490-1777626000-1777640400@zclub.elementor.cloud
SUMMARY:Joshua Tree Community Clean-up
DESCRIPTION:9:00am : coffee\, briefing\, group assignments\, supplies \n9:30am – 12pm : CLEAN \n12pm : Meet back at the Z Club/ High Desert Gear Exchange \n*Volunteers will receive a free lunch and discount on smoothies at z club
URL:https://zclub.elementor.cloud/event/joshua-tree-community-clean-up/
LOCATION:Z Club Joshua Tree\, 61877 29 Palms Hwy.\, Joshua Tree\, CA\, 92252\, United States
CATEGORIES:Community Clean-up
ATTACH;FMTTYPE=image/png:https://zclub.elementor.cloud/wp-content/uploads/2026/04/Cleanup-1.png
END:VEVENT
BEGIN:VEVENT
DTSTART;TZID=America/Los_Angeles:20260501T193000
DTEND;TZID=America/Los_Angeles:20260501T220000
DTSTAMP:20260420T060443
CREATED:20260415T030931Z
LAST-MODIFIED:20260415T030931Z
UID:1507-1777663800-1777672800@zclub.elementor.cloud
SUMMARY:Le Jazzanne
DESCRIPTION:
URL:https://zclub.elementor.cloud/event/le-jazzanne-40/
LOCATION:Z Club Joshua Tree\, 61877 29 Palms Hwy.\, Joshua Tree\, CA\, 92252\, United States
CATEGORIES:Le Jazzanne
ATTACH;FMTTYPE=image/jpeg:https://zclub.elementor.cloud/wp-content/uploads/2026/04/IMG_1947.jpg
END:VEVENT
END:VCALENDAR