BEGIN:VCALENDAR
VERSION:2.0
PRODID:-//Z Club Joshua Tree • Live Music and Cocktails - ECPv6.14.0//NONSGML v1.0//EN
CALSCALE:GREGORIAN
METHOD:PUBLISH
X-ORIGINAL-URL:https://zclub.elementor.cloud
X-WR-CALDESC:Events for Z Club Joshua Tree • Live Music and Cocktails
REFRESH-INTERVAL;VALUE=DURATION:PT1H
X-Robots-Tag:noindex
X-PUBLISHED-TTL:PT1H
BEGIN:VTIMEZONE
TZID:America/Los_Angeles
BEGIN:DAYLIGHT
TZOFFSETFROM:-0800
TZOFFSETTO:-0700
TZNAME:PDT
DTSTART:20250309T100000
END:DAYLIGHT
BEGIN:STANDARD
TZOFFSETFROM:-0700
TZOFFSETTO:-0800
TZNAME:PST
DTSTART:20251102T090000
END:STANDARD
END:VTIMEZONE
BEGIN:VTIMEZONE
TZID:UTC
BEGIN:STANDARD
TZOFFSETFROM:+0000
TZOFFSETTO:+0000
TZNAME:UTC
DTSTART:20250101T000000
END:STANDARD
END:VTIMEZONE
BEGIN:VEVENT
DTSTART;TZID=America/Los_Angeles:20250831T190000
DTEND;TZID=America/Los_Angeles:20250831T220000
DTSTAMP:20260420T152007
CREATED:20250825T213216Z
LAST-MODIFIED:20250825T213240Z
UID:1024-1756666800-1756677600@zclub.elementor.cloud
SUMMARY:Jazz Jam with Doug Macdonald
DESCRIPTION:Bring your axe! First set by Doug’s trio – then you can join in with your preferred song + key
URL:https://zclub.elementor.cloud/event/jazz-jam-with-doug-macdonald/
LOCATION:Z Club Joshua Tree\, 61877 29 Palms Hwy.\, Joshua Tree\, CA\, 92252\, United States
CATEGORIES:Sunday Jam Sesh
ATTACH;FMTTYPE=image/jpeg:https://zclub.elementor.cloud/wp-content/uploads/2025/07/IMG_3309.jpg
END:VEVENT
BEGIN:VEVENT
DTSTART;TZID=America/Los_Angeles:20250824T190000
DTEND;TZID=America/Los_Angeles:20250824T220000
DTSTAMP:20260420T152007
CREATED:20250817T215520Z
LAST-MODIFIED:20250817T215520Z
UID:1005-1756062000-1756072800@zclub.elementor.cloud
SUMMARY:Jazz Jam Sesh
DESCRIPTION:Bring your axe!
URL:https://zclub.elementor.cloud/event/jazz-jam-sesh-2/
LOCATION:Z Club Joshua Tree\, 61877 29 Palms Hwy.\, Joshua Tree\, CA\, 92252\, United States
CATEGORIES:Sunday Jam Sesh
ATTACH;FMTTYPE=image/jpeg:https://zclub.elementor.cloud/wp-content/uploads/2025/07/IMG_3309.jpg
END:VEVENT
BEGIN:VEVENT
DTSTART;TZID=America/Los_Angeles:20250817T190000
DTEND;TZID=America/Los_Angeles:20250817T220000
DTSTAMP:20260420T152007
CREATED:20250817T212740Z
LAST-MODIFIED:20250817T212740Z
UID:988-1755457200-1755468000@zclub.elementor.cloud
SUMMARY:Jazz Jam Sesh
DESCRIPTION:Bring your axe! First set by Doug’s trio then you can join in with your preferred key and song \n  \n*Moving to Wednesday’s Mid-September
URL:https://zclub.elementor.cloud/event/jazz-jam-sesh/
LOCATION:Z Club Joshua Tree\, 61877 29 Palms Hwy.\, Joshua Tree\, CA\, 92252\, United States
CATEGORIES:Sunday Jam Sesh
ATTACH;FMTTYPE=image/jpeg:https://zclub.elementor.cloud/wp-content/uploads/2025/07/IMG_3309.jpg
END:VEVENT
BEGIN:VEVENT
DTSTART;TZID=America/Los_Angeles:20250803T190000
DTEND;TZID=America/Los_Angeles:20250803T220000
DTSTAMP:20260420T152007
CREATED:20250729T201157Z
LAST-MODIFIED:20250729T201222Z
UID:958-1754247600-1754258400@zclub.elementor.cloud
SUMMARY:Jazz Jam Sesh with Doug MacDonald Trio
DESCRIPTION:Bring your axe! Enjoy the first set and then join in! Be prepared with your choice of song and key.
URL:https://zclub.elementor.cloud/event/jazz-jam-sesh-with-doug-macdonald-trio/
LOCATION:Z Club Joshua Tree\, 61877 29 Palms Hwy.\, Joshua Tree\, CA\, 92252\, United States
CATEGORIES:Sunday Jam Sesh
ATTACH;FMTTYPE=image/jpeg:https://zclub.elementor.cloud/wp-content/uploads/2025/07/IMG_3309.jpg
END:VEVENT
BEGIN:VEVENT
DTSTART;TZID=America/Los_Angeles:20250720T190000
DTEND;TZID=America/Los_Angeles:20250720T220000
DTSTAMP:20260420T152007
CREATED:20250715T234124Z
LAST-MODIFIED:20250720T224034Z
UID:940-1753038000-1753048800@zclub.elementor.cloud
SUMMARY:Jazz Jam Sesh with Jimmie Dykes on Piano
DESCRIPTION:Bring your axe! Enjoy first set by Jimmie and then sign up at intermission to jam! Be prepared with key and song choice.
URL:https://zclub.elementor.cloud/event/jazz-jam-sesh-with-doug-macdonald/
LOCATION:Z Club Joshua Tree\, 61877 29 Palms Hwy.\, Joshua Tree\, CA\, 92252\, United States
CATEGORIES:Sunday Jam Sesh
ATTACH;FMTTYPE=image/jpeg:https://zclub.elementor.cloud/wp-content/uploads/2025/07/IMG_3309.jpg
END:VEVENT
BEGIN:VEVENT
DTSTART;TZID=America/Los_Angeles:20250713T190000
DTEND;TZID=America/Los_Angeles:20250713T220000
DTSTAMP:20260420T152007
CREATED:20250709T185752Z
LAST-MODIFIED:20250709T185905Z
UID:797-1752433200-1752444000@zclub.elementor.cloud
SUMMARY:Jazz Jam Session with Doug MacDonald
DESCRIPTION:Bring your axe! Enjoy first set by Doug’s trio and then sign up at intermission to jam! Be prepared with key and song choice.
URL:https://zclub.elementor.cloud/event/jazz-jam-session-with-doug-macdonald/
LOCATION:Z Club Joshua Tree\, 61877 29 Palms Hwy.\, Joshua Tree\, CA\, 92252\, United States
CATEGORIES:Sunday Jam Sesh
ATTACH;FMTTYPE=image/jpeg:https://zclub.elementor.cloud/wp-content/uploads/2025/07/IMG_3309.jpg
END:VEVENT
BEGIN:VEVENT
DTSTART;TZID=UTC:20250706T190000
DTEND;TZID=UTC:20250706T220000
DTSTAMP:20260420T152007
CREATED:20250707T033334Z
LAST-MODIFIED:20250707T065918Z
UID:709-1751828400-1751839200@zclub.elementor.cloud
SUMMARY:Jazz Jam Hosted by Doug MacDonald
DESCRIPTION:  \nBring your axe! Enjoy the first set and then approach Doug at intermission to put your name down. \n*Be ready to provide key and song choice
URL:https://zclub.elementor.cloud/event/jazz-jam-hosted-by-doug-macdonald/
LOCATION:Z Club Joshua Tree\, 61877 29 Palms Hwy.\, Joshua Tree\, CA\, 92252\, United States
CATEGORIES:Sunday Jam Sesh
ATTACH;FMTTYPE=image/jpeg:https://zclub.elementor.cloud/wp-content/uploads/2025/07/IMG_3309.jpg
END:VEVENT
END:VCALENDAR