BEGIN:VCALENDAR
VERSION:2.0
PRODID:-//Z Club Joshua Tree • Live Music and Cocktails - ECPv6.14.0//NONSGML v1.0//EN
CALSCALE:GREGORIAN
METHOD:PUBLISH
X-ORIGINAL-URL:https://zclub.elementor.cloud
X-WR-CALDESC:Events for Z Club Joshua Tree • Live Music and Cocktails
REFRESH-INTERVAL;VALUE=DURATION:PT1H
X-Robots-Tag:noindex
X-PUBLISHED-TTL:PT1H
BEGIN:VTIMEZONE
TZID:America/Los_Angeles
BEGIN:DAYLIGHT
TZOFFSETFROM:-0800
TZOFFSETTO:-0700
TZNAME:PDT
DTSTART:20250309T100000
END:DAYLIGHT
BEGIN:STANDARD
TZOFFSETFROM:-0700
TZOFFSETTO:-0800
TZNAME:PST
DTSTART:20251102T090000
END:STANDARD
END:VTIMEZONE
BEGIN:VEVENT
DTSTART;TZID=America/Los_Angeles:20251108T120000
DTEND;TZID=America/Los_Angeles:20251110T150000
DTSTAMP:20260420T162546
CREATED:20251103T234541Z
LAST-MODIFIED:20251103T234541Z
UID:1166-1762603200-1762786800@zclub.elementor.cloud
SUMMARY:SmoothZ's: Desert Inspired Smoothies
DESCRIPTION:12 to 3pm – Served inside the Z Club
URL:https://zclub.elementor.cloud/event/smoothzs-desert-inspired-smoothies/
LOCATION:Z Club Joshua Tree\, 61877 29 Palms Hwy.\, Joshua Tree\, CA\, 92252\, United States
CATEGORIES:SmoothZ's
ATTACH;FMTTYPE=image/jpeg:https://zclub.elementor.cloud/wp-content/uploads/2025/11/IMG_6647.jpg
END:VEVENT
BEGIN:VEVENT
DTSTART;TZID=America/Los_Angeles:20250927T110000
DTEND;TZID=America/Los_Angeles:20250929T140000
DTSTAMP:20260420T162546
CREATED:20250922T200446Z
LAST-MODIFIED:20250924T212823Z
UID:1082-1758970800-1759154400@zclub.elementor.cloud
SUMMARY:SmoothZ's
DESCRIPTION:Desert Inspired Fuel – Must Try Smoothies! \nFRI+SAT+SUN • 11-2pm
URL:https://zclub.elementor.cloud/event/smoothzs-6/
LOCATION:Z Club Joshua Tree\, 61877 29 Palms Hwy.\, Joshua Tree\, CA\, 92252\, United States
CATEGORIES:SmoothZ's
ATTACH;FMTTYPE=image/jpeg:https://zclub.elementor.cloud/wp-content/uploads/2025/08/IMG_4481.jpg
END:VEVENT
BEGIN:VEVENT
DTSTART;TZID=America/Los_Angeles:20250913T110000
DTEND;TZID=America/Los_Angeles:20250915T140000
DTSTAMP:20260420T162546
CREATED:20250908T232542Z
LAST-MODIFIED:20250908T232542Z
UID:1054-1757761200-1757944800@zclub.elementor.cloud
SUMMARY:SmoothZ's
DESCRIPTION:
URL:https://zclub.elementor.cloud/event/smoothzs-5/
LOCATION:Z Club Joshua Tree\, 61877 29 Palms Hwy.\, Joshua Tree\, CA\, 92252\, United States
CATEGORIES:SmoothZ's
ATTACH;FMTTYPE=image/jpeg:https://zclub.elementor.cloud/wp-content/uploads/2025/08/IMG_4481.jpg
END:VEVENT
BEGIN:VEVENT
DTSTART;TZID=America/Los_Angeles:20250906T110000
DTEND;TZID=America/Los_Angeles:20250908T140000
DTSTAMP:20260420T162546
CREATED:20250831T222158Z
LAST-MODIFIED:20250831T222158Z
UID:1036-1757156400-1757340000@zclub.elementor.cloud
SUMMARY:SmoothZ's
DESCRIPTION:Desert inspired fuel! Smoothies served up during the day at Z Club (Saturday – Monday)
URL:https://zclub.elementor.cloud/event/smoothzs-4/
LOCATION:Z Club Joshua Tree\, 61877 29 Palms Hwy.\, Joshua Tree\, CA\, 92252\, United States
CATEGORIES:SmoothZ's
ATTACH;FMTTYPE=image/jpeg:https://zclub.elementor.cloud/wp-content/uploads/2025/08/IMG_4481.jpg
END:VEVENT
BEGIN:VEVENT
DTSTART;TZID=America/Los_Angeles:20250830T110000
DTEND;TZID=America/Los_Angeles:20250901T140000
DTSTAMP:20260420T162546
CREATED:20250825T212322Z
LAST-MODIFIED:20250825T213339Z
UID:1016-1756551600-1756735200@zclub.elementor.cloud
SUMMARY:SmoothZ's
DESCRIPTION:Desert inspired fuel! Smoothies served up during the day at Z Club (Saturday – Monday)
URL:https://zclub.elementor.cloud/event/smoothzs-3/
LOCATION:Z Club Joshua Tree\, 61877 29 Palms Hwy.\, Joshua Tree\, CA\, 92252\, United States
CATEGORIES:SmoothZ's
ATTACH;FMTTYPE=image/jpeg:https://zclub.elementor.cloud/wp-content/uploads/2025/08/IMG_4481.jpg
END:VEVENT
BEGIN:VEVENT
DTSTART;TZID=America/Los_Angeles:20250823T110000
DTEND;TZID=America/Los_Angeles:20250825T140000
DTSTAMP:20260420T162546
CREATED:20250817T215251Z
LAST-MODIFIED:20250817T215251Z
UID:1003-1755946800-1756130400@zclub.elementor.cloud
SUMMARY:SmoothZ's
DESCRIPTION:Desert inspired fuel! Delicious smoothies served up every Saturday-Monday at Z Club from 11-2pm
URL:https://zclub.elementor.cloud/event/smoothzs-2/
LOCATION:Z Club Joshua Tree\, 61877 29 Palms Hwy.\, Joshua Tree\, CA\, 92252\, United States
CATEGORIES:SmoothZ's
ATTACH;FMTTYPE=image/jpeg:https://zclub.elementor.cloud/wp-content/uploads/2025/08/IMG_4481.jpg
END:VEVENT
BEGIN:VEVENT
DTSTART;TZID=America/Los_Angeles:20250816T110000
DTEND;TZID=America/Los_Angeles:20250818T140000
DTSTAMP:20260420T162546
CREATED:20250817T215107Z
LAST-MODIFIED:20250817T215107Z
UID:1000-1755342000-1755525600@zclub.elementor.cloud
SUMMARY:SmoothZ's
DESCRIPTION:Desert inspired fuel! Delicious smoothies served up every Saturday-Monday at Z Club from 11-2pm
URL:https://zclub.elementor.cloud/event/smoothzs/
LOCATION:Z Club Joshua Tree\, 61877 29 Palms Hwy.\, Joshua Tree\, CA\, 92252\, United States
CATEGORIES:SmoothZ's
ATTACH;FMTTYPE=image/jpeg:https://zclub.elementor.cloud/wp-content/uploads/2025/08/IMG_4481.jpg
END:VEVENT
END:VCALENDAR