BEGIN:VCALENDAR
VERSION:2.0
PRODID:-//Z Club Joshua Tree • Live Music and Cocktails - ECPv6.14.0//NONSGML v1.0//EN
CALSCALE:GREGORIAN
METHOD:PUBLISH
X-ORIGINAL-URL:https://zclub.elementor.cloud
X-WR-CALDESC:Events for Z Club Joshua Tree • Live Music and Cocktails
REFRESH-INTERVAL;VALUE=DURATION:PT1H
X-Robots-Tag:noindex
X-PUBLISHED-TTL:PT1H
BEGIN:VTIMEZONE
TZID:America/Los_Angeles
BEGIN:DAYLIGHT
TZOFFSETFROM:-0800
TZOFFSETTO:-0700
TZNAME:PDT
DTSTART:20250309T100000
END:DAYLIGHT
BEGIN:STANDARD
TZOFFSETFROM:-0700
TZOFFSETTO:-0800
TZNAME:PST
DTSTART:20251102T090000
END:STANDARD
BEGIN:DAYLIGHT
TZOFFSETFROM:-0800
TZOFFSETTO:-0700
TZNAME:PDT
DTSTART:20260308T100000
END:DAYLIGHT
BEGIN:STANDARD
TZOFFSETFROM:-0700
TZOFFSETTO:-0800
TZNAME:PST
DTSTART:20261101T090000
END:STANDARD
END:VTIMEZONE
BEGIN:VEVENT
DTSTART;TZID=America/Los_Angeles:20260404T193000
DTEND;TZID=America/Los_Angeles:20260404T220000
DTSTAMP:20260420T155107
CREATED:20260405T021109Z
LAST-MODIFIED:20260405T021109Z
UID:1457-1775331000-1775340000@zclub.elementor.cloud
SUMMARY:Richard Turner\, Jr.
DESCRIPTION:
URL:https://zclub.elementor.cloud/event/richard-turner-jr/
LOCATION:Z Club Joshua Tree\, 61877 29 Palms Hwy.\, Joshua Tree\, CA\, 92252\, United States
CATEGORIES:Richard "88 Fingers" Turner Jr.
ATTACH;FMTTYPE=image/jpeg:https://zclub.elementor.cloud/wp-content/uploads/2026/04/IMG_1755-2.jpg
END:VEVENT
BEGIN:VEVENT
DTSTART;TZID=America/Los_Angeles:20260228T193000
DTEND;TZID=America/Los_Angeles:20260228T220000
DTSTAMP:20260420T155107
CREATED:20260131T020206Z
LAST-MODIFIED:20260131T020206Z
UID:1380-1772307000-1772316000@zclub.elementor.cloud
SUMMARY:Richard Turner Duo
DESCRIPTION:
URL:https://zclub.elementor.cloud/event/richard-turner-duo/
LOCATION:Z Club Joshua Tree\, 61877 29 Palms Hwy.\, Joshua Tree\, CA\, 92252\, United States
CATEGORIES:Richard "88 Fingers" Turner Jr.
ATTACH;FMTTYPE=image/png:https://zclub.elementor.cloud/wp-content/uploads/2026/01/Screenshot-2026-01-30-at-6.01.21-PM.png
END:VEVENT
BEGIN:VEVENT
DTSTART;TZID=America/Los_Angeles:20260124T193000
DTEND;TZID=America/Los_Angeles:20260124T220000
DTSTAMP:20260420T155107
CREATED:20260106T233408Z
LAST-MODIFIED:20260106T233408Z
UID:1325-1769283000-1769292000@zclub.elementor.cloud
SUMMARY:Richard "88 Fingers" Turner\, Jr.
DESCRIPTION:
URL:https://zclub.elementor.cloud/event/richard-88-fingers-turner-jr-10/
LOCATION:Z Club Joshua Tree\, 61877 29 Palms Hwy.\, Joshua Tree\, CA\, 92252\, United States
CATEGORIES:Richard "88 Fingers" Turner Jr.
ATTACH;FMTTYPE=image/png:https://zclub.elementor.cloud/wp-content/uploads/2026/01/Screenshot-2026-01-06-at-3.31.17-PM.png
END:VEVENT
BEGIN:VEVENT
DTSTART;TZID=America/Los_Angeles:20260110T190000
DTEND;TZID=America/Los_Angeles:20260110T220000
DTSTAMP:20260420T155107
CREATED:20260106T223416Z
LAST-MODIFIED:20260106T223416Z
UID:1299-1768071600-1768082400@zclub.elementor.cloud
SUMMARY:Richard "88 Fingers" Turner\, Jr.
DESCRIPTION:
URL:https://zclub.elementor.cloud/event/richard-88-fingers-turner-jr-9/
LOCATION:Z Club Joshua Tree\, 61877 29 Palms Hwy.\, Joshua Tree\, CA\, 92252\, United States
CATEGORIES:Richard "88 Fingers" Turner Jr.
ATTACH;FMTTYPE=image/jpeg:https://zclub.elementor.cloud/wp-content/uploads/2026/01/IMG_8335.jpg
END:VEVENT
BEGIN:VEVENT
DTSTART;TZID=America/Los_Angeles:20251115T193000
DTEND;TZID=America/Los_Angeles:20251115T220000
DTSTAMP:20260420T155107
CREATED:20251104T003538Z
LAST-MODIFIED:20251112T032405Z
UID:1186-1763235000-1763244000@zclub.elementor.cloud
SUMMARY:Richard "88 Fingers" Turner\, Jr.
DESCRIPTION:
URL:https://zclub.elementor.cloud/event/richard-88-fingers-turner-jr-7/
LOCATION:Z Club Joshua Tree\, 61877 29 Palms Hwy.\, Joshua Tree\, CA\, 92252\, United States
CATEGORIES:Richard "88 Fingers" Turner Jr.
ATTACH;FMTTYPE=image/jpeg:https://zclub.elementor.cloud/wp-content/uploads/2025/11/IMG_6853.jpg
END:VEVENT
BEGIN:VEVENT
DTSTART;TZID=America/Los_Angeles:20251025T193000
DTEND;TZID=America/Los_Angeles:20251025T220000
DTSTAMP:20260420T155107
CREATED:20251006T035150Z
LAST-MODIFIED:20251006T035150Z
UID:1112-1761420600-1761429600@zclub.elementor.cloud
SUMMARY:Richard "88 Fingers" Turner\, Jr.
DESCRIPTION:
URL:https://zclub.elementor.cloud/event/richard-88-fingers-turner-jr-6/
LOCATION:Z Club Joshua Tree\, 61877 29 Palms Hwy.\, Joshua Tree\, CA\, 92252\, United States
CATEGORIES:Richard "88 Fingers" Turner Jr.
ATTACH;FMTTYPE=image/jpeg:https://zclub.elementor.cloud/wp-content/uploads/2025/09/IMG_5307.jpg
END:VEVENT
BEGIN:VEVENT
DTSTART;TZID=America/Los_Angeles:20251018T193000
DTEND;TZID=America/Los_Angeles:20251018T220000
DTSTAMP:20260420T155107
CREATED:20250922T200036Z
LAST-MODIFIED:20250929T001441Z
UID:1074-1760815800-1760824800@zclub.elementor.cloud
SUMMARY:Richard "88 Fingers" Turner\, Jr.
DESCRIPTION:
URL:https://zclub.elementor.cloud/event/richard-88-fingers-turner-jr-5/
LOCATION:Z Club Joshua Tree\, 61877 29 Palms Hwy.\, Joshua Tree\, CA\, 92252\, United States
CATEGORIES:Richard "88 Fingers" Turner Jr.
ATTACH;FMTTYPE=image/jpeg:https://zclub.elementor.cloud/wp-content/uploads/2025/09/IMG_5307.jpg
END:VEVENT
BEGIN:VEVENT
DTSTART;TZID=America/Los_Angeles:20250830T193000
DTEND;TZID=America/Los_Angeles:20250830T220000
DTSTAMP:20260420T155107
CREATED:20250825T212851Z
LAST-MODIFIED:20250825T212851Z
UID:1019-1756582200-1756591200@zclub.elementor.cloud
SUMMARY:Richard "88 Fingers" Turner\, Jr.
DESCRIPTION:
URL:https://zclub.elementor.cloud/event/richard-88-fingers-turner-jr-4/
LOCATION:Z Club Joshua Tree\, 61877 29 Palms Hwy.\, Joshua Tree\, CA\, 92252\, United States
CATEGORIES:Richard "88 Fingers" Turner Jr.
ATTACH;FMTTYPE=image/jpeg:https://zclub.elementor.cloud/wp-content/uploads/2025/08/IMG_4695-6.jpg
END:VEVENT
BEGIN:VEVENT
DTSTART;TZID=America/Los_Angeles:20250809T193000
DTEND;TZID=America/Los_Angeles:20250809T220000
DTSTAMP:20260420T155107
CREATED:20250807T183414Z
LAST-MODIFIED:20250807T183414Z
UID:981-1754767800-1754776800@zclub.elementor.cloud
SUMMARY:Richard "88 Fingers" Turner\, Jr.
DESCRIPTION:He’s back!
URL:https://zclub.elementor.cloud/event/richard-88-fingers-turner-jr-3/
LOCATION:Z Club Joshua Tree\, 61877 29 Palms Hwy.\, Joshua Tree\, CA\, 92252\, United States
CATEGORIES:Richard "88 Fingers" Turner Jr.
ATTACH;FMTTYPE=image/jpeg:https://zclub.elementor.cloud/wp-content/uploads/2025/08/IMG_4305.jpg
END:VEVENT
BEGIN:VEVENT
DTSTART;TZID=America/Los_Angeles:20250712T193000
DTEND;TZID=America/Los_Angeles:20250712T220000
DTSTAMP:20260420T155107
CREATED:20250709T185111Z
LAST-MODIFIED:20250709T185111Z
UID:794-1752348600-1752357600@zclub.elementor.cloud
SUMMARY:Richard "88 Fingers" Turner\, Jr.
DESCRIPTION:
URL:https://zclub.elementor.cloud/event/richard-88-fingers-turner-jr/
LOCATION:Z Club Joshua Tree\, 61877 29 Palms Hwy.\, Joshua Tree\, CA\, 92252\, United States
CATEGORIES:Richard "88 Fingers" Turner Jr.
ATTACH;FMTTYPE=image/jpeg:https://zclub.elementor.cloud/wp-content/uploads/2025/07/IMG_3370.jpg
END:VEVENT
END:VCALENDAR