BEGIN:VCALENDAR
VERSION:2.0
PRODID:-//Z Club Joshua Tree • Live Music and Cocktails - ECPv6.14.0//NONSGML v1.0//EN
CALSCALE:GREGORIAN
METHOD:PUBLISH
X-ORIGINAL-URL:https://zclub.elementor.cloud
X-WR-CALDESC:Events for Z Club Joshua Tree • Live Music and Cocktails
REFRESH-INTERVAL;VALUE=DURATION:PT1H
X-Robots-Tag:noindex
X-PUBLISHED-TTL:PT1H
BEGIN:VTIMEZONE
TZID:America/Los_Angeles
BEGIN:DAYLIGHT
TZOFFSETFROM:-0800
TZOFFSETTO:-0700
TZNAME:PDT
DTSTART:20250309T100000
END:DAYLIGHT
BEGIN:STANDARD
TZOFFSETFROM:-0700
TZOFFSETTO:-0800
TZNAME:PST
DTSTART:20251102T090000
END:STANDARD
END:VTIMEZONE
BEGIN:VEVENT
DTSTART;TZID=America/Los_Angeles:20251031T190000
DTEND;TZID=America/Los_Angeles:20251031T220000
DTSTAMP:20260420T120647
CREATED:20251006T042237Z
LAST-MODIFIED:20251006T184328Z
UID:1131-1761937200-1761948000@zclub.elementor.cloud
SUMMARY:Le Jazzanne
DESCRIPTION:House Band featuring Susan Henry!
URL:https://zclub.elementor.cloud/event/le-jazzanne-14/
LOCATION:Z Club Joshua Tree\, 61877 29 Palms Hwy.\, Joshua Tree\, CA\, 92252\, United States
CATEGORIES:Le Jazzanne
ATTACH;FMTTYPE=image/jpeg:https://zclub.elementor.cloud/wp-content/uploads/2025/10/IMG_5421.jpg
END:VEVENT
BEGIN:VEVENT
DTSTART;TZID=America/Los_Angeles:20251024T190000
DTEND;TZID=America/Los_Angeles:20251024T220000
DTSTAMP:20260420T120647
CREATED:20251006T042108Z
LAST-MODIFIED:20251006T042108Z
UID:1129-1761332400-1761343200@zclub.elementor.cloud
SUMMARY:Le Jazzanne
DESCRIPTION:House Band featuring Susan Henry!
URL:https://zclub.elementor.cloud/event/le-jazzanne-13/
LOCATION:Z Club Joshua Tree\, 61877 29 Palms Hwy.\, Joshua Tree\, CA\, 92252\, United States
CATEGORIES:Le Jazzanne
ATTACH;FMTTYPE=image/jpeg:https://zclub.elementor.cloud/wp-content/uploads/2025/09/IMG_5308.jpg
END:VEVENT
BEGIN:VEVENT
DTSTART;TZID=America/Los_Angeles:20251017T190000
DTEND;TZID=America/Los_Angeles:20251017T220000
DTSTAMP:20260420T120647
CREATED:20251006T041931Z
LAST-MODIFIED:20251006T041931Z
UID:1125-1760727600-1760738400@zclub.elementor.cloud
SUMMARY:Le Jazzanne
DESCRIPTION:House Band featuring Susan Henry!
URL:https://zclub.elementor.cloud/event/le-jazzanne-12/
LOCATION:Z Club Joshua Tree\, 61877 29 Palms Hwy.\, Joshua Tree\, CA\, 92252\, United States
CATEGORIES:Le Jazzanne
ATTACH;FMTTYPE=image/jpeg:https://zclub.elementor.cloud/wp-content/uploads/2025/09/IMG_5308.jpg
END:VEVENT
BEGIN:VEVENT
DTSTART;TZID=America/Los_Angeles:20251011T190000
DTEND;TZID=America/Los_Angeles:20251011T220000
DTSTAMP:20260420T120647
CREATED:20251006T183131Z
LAST-MODIFIED:20251006T183131Z
UID:1136-1760209200-1760220000@zclub.elementor.cloud
SUMMARY:Le Jazzanne
DESCRIPTION:House band featuring Susan Henry!
URL:https://zclub.elementor.cloud/event/le-jazzanne-15/
LOCATION:Z Club Joshua Tree\, 61877 29 Palms Hwy.\, Joshua Tree\, CA\, 92252\, United States
CATEGORIES:Le Jazzanne
ATTACH;FMTTYPE=image/jpeg:https://zclub.elementor.cloud/wp-content/uploads/2025/09/IMG_5308.jpg
END:VEVENT
BEGIN:VEVENT
DTSTART;TZID=America/Los_Angeles:20251004T190000
DTEND;TZID=America/Los_Angeles:20251004T220000
DTSTAMP:20260420T120647
CREATED:20250929T001005Z
LAST-MODIFIED:20250929T002432Z
UID:1101-1759604400-1759615200@zclub.elementor.cloud
SUMMARY:Le Jazzanne
DESCRIPTION:House Band featuring Susan Henry \n*Playing Saturday instead of Friday this week
URL:https://zclub.elementor.cloud/event/le-jazzanne-11/
LOCATION:Z Club Joshua Tree\, 61877 29 Palms Hwy.\, Joshua Tree\, CA\, 92252\, United States
CATEGORIES:Le Jazzanne
ATTACH;FMTTYPE=image/jpeg:https://zclub.elementor.cloud/wp-content/uploads/2025/09/IMG_5308.jpg
END:VEVENT
BEGIN:VEVENT
DTSTART;TZID=America/Los_Angeles:20250926T190000
DTEND;TZID=America/Los_Angeles:20250926T220000
DTSTAMP:20260420T120647
CREATED:20250920T213053Z
LAST-MODIFIED:20250920T213053Z
UID:1077-1758913200-1758924000@zclub.elementor.cloud
SUMMARY:Le Jazzanne
DESCRIPTION:Our house band featuring Susan Henry!
URL:https://zclub.elementor.cloud/event/le-jazzanne-10/
LOCATION:Z Club Joshua Tree\, 61877 29 Palms Hwy.\, Joshua Tree\, CA\, 92252\, United States
CATEGORIES:Le Jazzanne
ATTACH;FMTTYPE=image/jpeg:https://zclub.elementor.cloud/wp-content/uploads/2025/07/IMG_3368.jpg
END:VEVENT
BEGIN:VEVENT
DTSTART;TZID=America/Los_Angeles:20250919T190000
DTEND;TZID=America/Los_Angeles:20250919T220000
DTSTAMP:20260420T120647
CREATED:20250913T214350Z
LAST-MODIFIED:20250913T214350Z
UID:1060-1758308400-1758319200@zclub.elementor.cloud
SUMMARY:Le Jazzanne
DESCRIPTION:House band featuring Susan Henry!
URL:https://zclub.elementor.cloud/event/le-jazzanne-9/
LOCATION:Z Club Joshua Tree\, 61877 29 Palms Hwy.\, Joshua Tree\, CA\, 92252\, United States
CATEGORIES:Le Jazzanne
ATTACH;FMTTYPE=image/jpeg:https://zclub.elementor.cloud/wp-content/uploads/2025/07/IMG_3368.jpg
END:VEVENT
BEGIN:VEVENT
DTSTART;TZID=America/Los_Angeles:20250912T190000
DTEND;TZID=America/Los_Angeles:20250912T220000
DTSTAMP:20260420T120647
CREATED:20250908T232217Z
LAST-MODIFIED:20250908T232217Z
UID:1049-1757703600-1757714400@zclub.elementor.cloud
SUMMARY:Le Jazzanne
DESCRIPTION:House band featuring Susan Henry!
URL:https://zclub.elementor.cloud/event/le-jazzanne-8/
LOCATION:Z Club Joshua Tree\, 61877 29 Palms Hwy.\, Joshua Tree\, CA\, 92252\, United States
CATEGORIES:Le Jazzanne
ATTACH;FMTTYPE=image/jpeg:https://zclub.elementor.cloud/wp-content/uploads/2025/07/IMG_3367.jpg
END:VEVENT
BEGIN:VEVENT
DTSTART;TZID=America/Los_Angeles:20250905T190000
DTEND;TZID=America/Los_Angeles:20250905T220000
DTSTAMP:20260420T120647
CREATED:20250831T221856Z
LAST-MODIFIED:20250831T221856Z
UID:1034-1757098800-1757109600@zclub.elementor.cloud
SUMMARY:Le Jazzanne
DESCRIPTION:Our house band featuring Susan Henry
URL:https://zclub.elementor.cloud/event/le-jazzanne-7/
LOCATION:Z Club Joshua Tree\, 61877 29 Palms Hwy.\, Joshua Tree\, CA\, 92252\, United States
CATEGORIES:Le Jazzanne
ATTACH;FMTTYPE=image/jpeg:https://zclub.elementor.cloud/wp-content/uploads/2025/07/IMG_3368.jpg
END:VEVENT
BEGIN:VEVENT
DTSTART;TZID=America/Los_Angeles:20250829T190000
DTEND;TZID=America/Los_Angeles:20250829T220000
DTSTAMP:20260420T120647
CREATED:20250825T213014Z
LAST-MODIFIED:20250825T213014Z
UID:1022-1756494000-1756504800@zclub.elementor.cloud
SUMMARY:Le Jazzanne
DESCRIPTION:Our house band featuring Susan Henry!
URL:https://zclub.elementor.cloud/event/le-jazzanne-6/
CATEGORIES:Le Jazzanne
ATTACH;FMTTYPE=image/jpeg:https://zclub.elementor.cloud/wp-content/uploads/2025/07/IMG_3367.jpg
END:VEVENT
BEGIN:VEVENT
DTSTART;TZID=America/Los_Angeles:20250822T190000
DTEND;TZID=America/Los_Angeles:20250822T220000
DTSTAMP:20260420T120647
CREATED:20250817T214728Z
LAST-MODIFIED:20250817T214728Z
UID:998-1755889200-1755900000@zclub.elementor.cloud
SUMMARY:Le Jazzanne
DESCRIPTION:House band featuring Susan Henry!
URL:https://zclub.elementor.cloud/event/le-jazzanne-5/
LOCATION:Z Club Joshua Tree\, 61877 29 Palms Hwy.\, Joshua Tree\, CA\, 92252\, United States
CATEGORIES:Le Jazzanne
ATTACH;FMTTYPE=image/jpeg:https://zclub.elementor.cloud/wp-content/uploads/2025/07/IMG_3367.jpg
END:VEVENT
BEGIN:VEVENT
DTSTART;TZID=America/Los_Angeles:20250815T190000
DTEND;TZID=America/Los_Angeles:20250815T220000
DTSTAMP:20260420T120647
CREATED:20250815T210419Z
LAST-MODIFIED:20250815T210419Z
UID:986-1755284400-1755295200@zclub.elementor.cloud
SUMMARY:Le Jazzanne
DESCRIPTION:House band featuring Susan Henry!
URL:https://zclub.elementor.cloud/event/le-jazzanne-4/
LOCATION:Z Club Joshua Tree\, 61877 29 Palms Hwy.\, Joshua Tree\, CA\, 92252\, United States
CATEGORIES:Le Jazzanne
ATTACH;FMTTYPE=image/jpeg:https://zclub.elementor.cloud/wp-content/uploads/2025/07/IMG_3368.jpg
END:VEVENT
BEGIN:VEVENT
DTSTART;TZID=America/Los_Angeles:20250808T190000
DTEND;TZID=America/Los_Angeles:20250808T220000
DTSTAMP:20260420T120647
CREATED:20250807T182455Z
LAST-MODIFIED:20250807T182455Z
UID:973-1754679600-1754690400@zclub.elementor.cloud
SUMMARY:Le Jazzanne
DESCRIPTION:Our house band featuring Susan Henry!
URL:https://zclub.elementor.cloud/event/le-jazzanne-3/
LOCATION:Z Club Joshua Tree\, 61877 29 Palms Hwy.\, Joshua Tree\, CA\, 92252\, United States
CATEGORIES:Le Jazzanne
ATTACH;FMTTYPE=image/jpeg:https://zclub.elementor.cloud/wp-content/uploads/2025/07/IMG_3368.jpg
END:VEVENT
BEGIN:VEVENT
DTSTART;TZID=America/Los_Angeles:20250801T190000
DTEND;TZID=America/Los_Angeles:20250801T220000
DTSTAMP:20260420T120647
CREATED:20250729T201618Z
LAST-MODIFIED:20250729T201618Z
UID:960-1754074800-1754085600@zclub.elementor.cloud
SUMMARY:Le Jazzanne
DESCRIPTION:Our house band featuring Susan Henry! Contemporary jazz\, standards\, blues\, and originals.
URL:https://zclub.elementor.cloud/event/le-jazzanne-2/
LOCATION:Z Club Joshua Tree\, 61877 29 Palms Hwy.\, Joshua Tree\, CA\, 92252\, United States
CATEGORIES:Le Jazzanne
ATTACH;FMTTYPE=image/jpeg:https://zclub.elementor.cloud/wp-content/uploads/2025/07/IMG_3368.jpg
END:VEVENT
BEGIN:VEVENT
DTSTART;TZID=America/Los_Angeles:20250725T190000
DTEND;TZID=America/Los_Angeles:20250725T220000
DTSTAMP:20260420T120647
CREATED:20250722T211016Z
LAST-MODIFIED:20250722T211016Z
UID:951-1753470000-1753480800@zclub.elementor.cloud
SUMMARY:Le Jazzenne
DESCRIPTION:Our house band featuring Susan Henry!
URL:https://zclub.elementor.cloud/event/le-jazzenne-2/
LOCATION:Z Club Joshua Tree\, 61877 29 Palms Hwy.\, Joshua Tree\, CA\, 92252\, United States
CATEGORIES:Le Jazzanne
ATTACH;FMTTYPE=image/jpeg:https://zclub.elementor.cloud/wp-content/uploads/2025/07/IMG_3368.jpg
END:VEVENT
BEGIN:VEVENT
DTSTART;TZID=America/Los_Angeles:20250718T190000
DTEND;TZID=America/Los_Angeles:20250718T220000
DTSTAMP:20260420T120647
CREATED:20250715T233718Z
LAST-MODIFIED:20250715T234320Z
UID:938-1752865200-1752876000@zclub.elementor.cloud
SUMMARY:Le Jazzenne
DESCRIPTION:Our house band featuring Susan Henry!
URL:https://zclub.elementor.cloud/event/le-jazzenne/
LOCATION:Z Club Joshua Tree\, 61877 29 Palms Hwy.\, Joshua Tree\, CA\, 92252\, United States
CATEGORIES:Le Jazzanne
ATTACH;FMTTYPE=image/jpeg:https://zclub.elementor.cloud/wp-content/uploads/2025/07/IMG_3368.jpg
END:VEVENT
BEGIN:VEVENT
DTSTART;TZID=America/Los_Angeles:20250711T190000
DTEND;TZID=America/Los_Angeles:20250711T220000
DTSTAMP:20260420T120647
CREATED:20250709T183517Z
LAST-MODIFIED:20250709T183755Z
UID:790-1752260400-1752271200@zclub.elementor.cloud
SUMMARY:Le Jazzanne
DESCRIPTION:Our weekly “house band” featuring Susan Henry!
URL:https://zclub.elementor.cloud/event/le-jazzanne/
LOCATION:Z Club Joshua Tree\, 61877 29 Palms Hwy.\, Joshua Tree\, CA\, 92252\, United States
CATEGORIES:Le Jazzanne
ATTACH;FMTTYPE=image/jpeg:https://zclub.elementor.cloud/wp-content/uploads/2025/07/IMG_3368.jpg
END:VEVENT
END:VCALENDAR