BEGIN:VCALENDAR
VERSION:2.0
PRODID:-//Z Club Joshua Tree • Live Music and Cocktails - ECPv6.14.0//NONSGML v1.0//EN
CALSCALE:GREGORIAN
METHOD:PUBLISH
X-ORIGINAL-URL:https://zclub.elementor.cloud
X-WR-CALDESC:Events for Z Club Joshua Tree • Live Music and Cocktails
REFRESH-INTERVAL;VALUE=DURATION:PT1H
X-Robots-Tag:noindex
X-PUBLISHED-TTL:PT1H
BEGIN:VTIMEZONE
TZID:America/Los_Angeles
BEGIN:DAYLIGHT
TZOFFSETFROM:-0800
TZOFFSETTO:-0700
TZNAME:PDT
DTSTART:20250309T100000
END:DAYLIGHT
BEGIN:STANDARD
TZOFFSETFROM:-0700
TZOFFSETTO:-0800
TZNAME:PST
DTSTART:20251102T090000
END:STANDARD
BEGIN:DAYLIGHT
TZOFFSETFROM:-0800
TZOFFSETTO:-0700
TZNAME:PDT
DTSTART:20260308T100000
END:DAYLIGHT
BEGIN:STANDARD
TZOFFSETFROM:-0700
TZOFFSETTO:-0800
TZNAME:PST
DTSTART:20261101T090000
END:STANDARD
END:VTIMEZONE
BEGIN:VEVENT
DTSTART;TZID=America/Los_Angeles:20260418T193000
DTEND;TZID=America/Los_Angeles:20260418T220000
DTSTAMP:20260420T092108
CREATED:20260405T201308Z
LAST-MODIFIED:20260415T031029Z
UID:1482-1776540600-1776549600@zclub.elementor.cloud
SUMMARY:Le Jazzanne
DESCRIPTION:
URL:https://zclub.elementor.cloud/event/le-bazzane/
LOCATION:Z Club Joshua Tree\, 61877 29 Palms Hwy.\, Joshua Tree\, CA\, 92252\, United States
CATEGORIES:Le Jazzanne
ATTACH;FMTTYPE=image/jpeg:https://zclub.elementor.cloud/wp-content/uploads/2026/04/IMG_2256.jpg
END:VEVENT
BEGIN:VEVENT
DTSTART;TZID=America/Los_Angeles:20260410T193000
DTEND;TZID=America/Los_Angeles:20260410T220000
DTSTAMP:20260420T092109
CREATED:20260405T025142Z
LAST-MODIFIED:20260405T025142Z
UID:1465-1775849400-1775858400@zclub.elementor.cloud
SUMMARY:Le Jazzanne
DESCRIPTION:
URL:https://zclub.elementor.cloud/event/le-jazzanne-38/
LOCATION:Z Club Joshua Tree\, 61877 29 Palms Hwy.\, Joshua Tree\, CA\, 92252\, United States
CATEGORIES:Le Jazzanne
ATTACH;FMTTYPE=image/jpeg:https://zclub.elementor.cloud/wp-content/uploads/2026/04/IMG_1947.jpg
END:VEVENT
BEGIN:VEVENT
DTSTART;TZID=America/Los_Angeles:20260403T193000
DTEND;TZID=America/Los_Angeles:20260403T220000
DTSTAMP:20260420T092109
CREATED:20260405T020810Z
LAST-MODIFIED:20260405T020810Z
UID:1455-1775244600-1775253600@zclub.elementor.cloud
SUMMARY:Le Jazzanne
DESCRIPTION:
URL:https://zclub.elementor.cloud/event/le-jazzanne-37/
LOCATION:Z Club Joshua Tree\, 61877 29 Palms Hwy.\, Joshua Tree\, CA\, 92252\, United States
CATEGORIES:Le Jazzanne
ATTACH;FMTTYPE=image/jpeg:https://zclub.elementor.cloud/wp-content/uploads/2025/12/Screenshot-2025-12-10-at-3.58.45-PM.jpeg
END:VEVENT
BEGIN:VEVENT
DTSTART;TZID=America/Los_Angeles:20260327T190000
DTEND;TZID=America/Los_Angeles:20260327T220000
DTSTAMP:20260420T092109
CREATED:20260303T004129Z
LAST-MODIFIED:20260303T004143Z
UID:1433-1774638000-1774648800@zclub.elementor.cloud
SUMMARY:Le Jazzanne
DESCRIPTION:House Band featuring Susan Henry on sax
URL:https://zclub.elementor.cloud/event/le-jazzanne-36/
LOCATION:Z Club Joshua Tree\, 61877 29 Palms Hwy.\, Joshua Tree\, CA\, 92252\, United States
CATEGORIES:Le Jazzanne
ATTACH;FMTTYPE=image/jpeg:https://zclub.elementor.cloud/wp-content/uploads/2025/12/Screenshot-2025-12-10-at-3.58.45-PM.jpeg
END:VEVENT
BEGIN:VEVENT
DTSTART;TZID=America/Los_Angeles:20260320T190000
DTEND;TZID=America/Los_Angeles:20260320T220000
DTSTAMP:20260420T092109
CREATED:20260303T003418Z
LAST-MODIFIED:20260303T003418Z
UID:1427-1774033200-1774044000@zclub.elementor.cloud
SUMMARY:Le Jazzanne
DESCRIPTION:House band featuring Susan Henry on sax
URL:https://zclub.elementor.cloud/event/le-jazzanne-35/
LOCATION:Z Club Joshua Tree\, 61877 29 Palms Hwy.\, Joshua Tree\, CA\, 92252\, United States
CATEGORIES:Le Jazzanne
ATTACH;FMTTYPE=image/jpeg:https://zclub.elementor.cloud/wp-content/uploads/2025/12/Screenshot-2025-12-10-at-3.58.45-PM.jpeg
END:VEVENT
BEGIN:VEVENT
DTSTART;TZID=America/Los_Angeles:20260313T190000
DTEND;TZID=America/Los_Angeles:20260313T220000
DTSTAMP:20260420T092109
CREATED:20260302T232954Z
LAST-MODIFIED:20260302T232954Z
UID:1414-1773428400-1773439200@zclub.elementor.cloud
SUMMARY:Le Jazzanne
DESCRIPTION:House band featuring Susan Henry on sax
URL:https://zclub.elementor.cloud/event/le-jazzanne-34/
LOCATION:Z Club Joshua Tree\, 61877 29 Palms Hwy.\, Joshua Tree\, CA\, 92252\, United States
CATEGORIES:Le Jazzanne
ATTACH;FMTTYPE=image/jpeg:https://zclub.elementor.cloud/wp-content/uploads/2025/12/Screenshot-2025-12-10-at-3.58.45-PM.jpeg
END:VEVENT
BEGIN:VEVENT
DTSTART;TZID=America/Los_Angeles:20260306T190000
DTEND;TZID=America/Los_Angeles:20260306T220000
DTSTAMP:20260420T092109
CREATED:20260302T230821Z
LAST-MODIFIED:20260302T230821Z
UID:1407-1772823600-1772834400@zclub.elementor.cloud
SUMMARY:Le Jazzanne
DESCRIPTION:House band with Susan Henry on sax
URL:https://zclub.elementor.cloud/event/le-jazzanne-33/
LOCATION:Z Club Joshua Tree\, 61877 29 Palms Hwy.\, Joshua Tree\, CA\, 92252\, United States
CATEGORIES:Le Jazzanne
ATTACH;FMTTYPE=image/jpeg:https://zclub.elementor.cloud/wp-content/uploads/2025/12/Screenshot-2025-12-10-at-3.58.45-PM.jpeg
END:VEVENT
BEGIN:VEVENT
DTSTART;TZID=America/Los_Angeles:20260227T190000
DTEND;TZID=America/Los_Angeles:20260227T220000
DTSTAMP:20260420T092109
CREATED:20260131T014200Z
LAST-MODIFIED:20260131T014200Z
UID:1378-1772218800-1772229600@zclub.elementor.cloud
SUMMARY:Le Jazzanne
DESCRIPTION:
URL:https://zclub.elementor.cloud/event/le-jazzanne-32/
LOCATION:Z Club Joshua Tree\, 61877 29 Palms Hwy.\, Joshua Tree\, CA\, 92252\, United States
CATEGORIES:Le Jazzanne
ATTACH;FMTTYPE=image/jpeg:https://zclub.elementor.cloud/wp-content/uploads/2025/12/Screenshot-2025-12-10-at-3.58.45-PM.jpeg
END:VEVENT
BEGIN:VEVENT
DTSTART;TZID=America/Los_Angeles:20260220T190000
DTEND;TZID=America/Los_Angeles:20260220T220000
DTSTAMP:20260420T092109
CREATED:20260131T013011Z
LAST-MODIFIED:20260131T013759Z
UID:1369-1771614000-1771624800@zclub.elementor.cloud
SUMMARY:Le Jazzanne
DESCRIPTION:
URL:https://zclub.elementor.cloud/event/le-jazzanne-31/
LOCATION:Z Club Joshua Tree\, 61877 29 Palms Hwy.\, Joshua Tree\, CA\, 92252\, United States
CATEGORIES:Le Jazzanne
ATTACH;FMTTYPE=image/jpeg:https://zclub.elementor.cloud/wp-content/uploads/2025/12/Screenshot-2025-12-10-at-3.58.45-PM.jpeg
END:VEVENT
BEGIN:VEVENT
DTSTART;TZID=America/Los_Angeles:20260214T190000
DTEND;TZID=America/Los_Angeles:20260214T220000
DTSTAMP:20260420T092109
CREATED:20260130T235438Z
LAST-MODIFIED:20260130T235438Z
UID:1362-1771095600-1771106400@zclub.elementor.cloud
SUMMARY:Le Jazzanne
DESCRIPTION:
URL:https://zclub.elementor.cloud/event/le-jazzanne-30/
LOCATION:Z Club Joshua Tree\, 61877 29 Palms Hwy.\, Joshua Tree\, CA\, 92252\, United States
CATEGORIES:Le Jazzanne
ATTACH;FMTTYPE=image/png:https://zclub.elementor.cloud/wp-content/uploads/2026/01/View-recent-photos-3.png
END:VEVENT
BEGIN:VEVENT
DTSTART;TZID=America/Los_Angeles:20260213T190000
DTEND;TZID=America/Los_Angeles:20260213T220000
DTSTAMP:20260420T092109
CREATED:20260125T230352Z
LAST-MODIFIED:20260125T230352Z
UID:1338-1771009200-1771020000@zclub.elementor.cloud
SUMMARY:Le Jazzanne
DESCRIPTION:
URL:https://zclub.elementor.cloud/event/le-jazzanne-29/
LOCATION:Z Club Joshua Tree\, 61877 29 Palms Hwy.\, Joshua Tree\, CA\, 92252\, United States
CATEGORIES:Le Jazzanne
ATTACH;FMTTYPE=image/jpeg:https://zclub.elementor.cloud/wp-content/uploads/2025/12/Screenshot-2025-12-10-at-3.58.45-PM.jpeg
END:VEVENT
BEGIN:VEVENT
DTSTART;TZID=America/Los_Angeles:20260206T190000
DTEND;TZID=America/Los_Angeles:20260206T220000
DTSTAMP:20260420T092109
CREATED:20260125T225049Z
LAST-MODIFIED:20260125T225049Z
UID:1333-1770404400-1770415200@zclub.elementor.cloud
SUMMARY:Le Jazzanne
DESCRIPTION:
URL:https://zclub.elementor.cloud/event/le-jazzanne-28/
LOCATION:Z Club Joshua Tree\, 61877 29 Palms Hwy.\, Joshua Tree\, CA\, 92252\, United States
CATEGORIES:Le Jazzanne
ATTACH;FMTTYPE=image/jpeg:https://zclub.elementor.cloud/wp-content/uploads/2025/12/Screenshot-2025-12-10-at-3.58.45-PM.jpeg
END:VEVENT
BEGIN:VEVENT
DTSTART;TZID=America/Los_Angeles:20260130T190000
DTEND;TZID=America/Los_Angeles:20260130T220000
DTSTAMP:20260420T092109
CREATED:20260106T232054Z
LAST-MODIFIED:20260106T232054Z
UID:1322-1769799600-1769810400@zclub.elementor.cloud
SUMMARY:Le Jazzanne
DESCRIPTION:
URL:https://zclub.elementor.cloud/event/le-jazzanne-27/
LOCATION:Z Club Joshua Tree\, 61877 29 Palms Hwy.\, Joshua Tree\, CA\, 92252\, United States
CATEGORIES:Le Jazzanne
ATTACH;FMTTYPE=image/jpeg:https://zclub.elementor.cloud/wp-content/uploads/2025/12/Screenshot-2025-12-10-at-3.58.45-PM.jpeg
END:VEVENT
BEGIN:VEVENT
DTSTART;TZID=America/Los_Angeles:20260123T190000
DTEND;TZID=America/Los_Angeles:20260123T220000
DTSTAMP:20260420T092109
CREATED:20260106T230225Z
LAST-MODIFIED:20260106T230225Z
UID:1314-1769194800-1769205600@zclub.elementor.cloud
SUMMARY:Le Jazzanne
DESCRIPTION:
URL:https://zclub.elementor.cloud/event/le-jazzanne-26/
LOCATION:Z Club Joshua Tree\, 61877 29 Palms Hwy.\, Joshua Tree\, CA\, 92252\, United States
CATEGORIES:Le Jazzanne
ATTACH;FMTTYPE=image/jpeg:https://zclub.elementor.cloud/wp-content/uploads/2025/12/Screenshot-2025-12-10-at-3.58.45-PM.jpeg
END:VEVENT
BEGIN:VEVENT
DTSTART;TZID=America/Los_Angeles:20260116T190000
DTEND;TZID=America/Los_Angeles:20260116T220000
DTSTAMP:20260420T092109
CREATED:20260106T224730Z
LAST-MODIFIED:20260106T230322Z
UID:1305-1768590000-1768600800@zclub.elementor.cloud
SUMMARY:Le Jazzanne
DESCRIPTION:
URL:https://zclub.elementor.cloud/event/le-jazzanne-25/
LOCATION:Z Club Joshua Tree\, 61877 29 Palms Hwy.\, Joshua Tree\, CA\, 92252\, United States
CATEGORIES:Le Jazzanne
ATTACH;FMTTYPE=image/jpeg:https://zclub.elementor.cloud/wp-content/uploads/2025/12/Screenshot-2025-12-10-at-3.58.45-PM.jpeg
END:VEVENT
BEGIN:VEVENT
DTSTART;TZID=America/Los_Angeles:20260109T190000
DTEND;TZID=America/Los_Angeles:20260109T220000
DTSTAMP:20260420T092109
CREATED:20251222T232026Z
LAST-MODIFIED:20251222T232026Z
UID:1282-1767985200-1767996000@zclub.elementor.cloud
SUMMARY:Le Jazzanne
DESCRIPTION:
URL:https://zclub.elementor.cloud/event/le-jazzanne-24/
LOCATION:Z Club Joshua Tree\, 61877 29 Palms Hwy.\, Joshua Tree\, CA\, 92252\, United States
CATEGORIES:Le Jazzanne
ATTACH;FMTTYPE=image/jpeg:https://zclub.elementor.cloud/wp-content/uploads/2025/12/Screenshot-2025-12-10-at-3.58.45-PM.jpeg
END:VEVENT
BEGIN:VEVENT
DTSTART;TZID=America/Los_Angeles:20251226T190000
DTEND;TZID=America/Los_Angeles:20251226T220000
DTSTAMP:20260420T092109
CREATED:20251222T213133Z
LAST-MODIFIED:20251222T213133Z
UID:1266-1766775600-1766786400@zclub.elementor.cloud
SUMMARY:Le Jazzanne
DESCRIPTION:
URL:https://zclub.elementor.cloud/event/le-jazzanne-22/
LOCATION:Z Club Joshua Tree\, 61877 29 Palms Hwy.\, Joshua Tree\, CA\, 92252\, United States
CATEGORIES:Le Jazzanne
ATTACH;FMTTYPE=image/jpeg:https://zclub.elementor.cloud/wp-content/uploads/2025/12/Screenshot-2025-12-10-at-3.58.45-PM.jpeg
END:VEVENT
BEGIN:VEVENT
DTSTART;TZID=America/Los_Angeles:20251219T190000
DTEND;TZID=America/Los_Angeles:20251219T220000
DTSTAMP:20260420T092109
CREATED:20251213T234856Z
LAST-MODIFIED:20251213T234856Z
UID:1258-1766170800-1766181600@zclub.elementor.cloud
SUMMARY:Le Jazzanne & Friends
DESCRIPTION:
URL:https://zclub.elementor.cloud/event/le-jazzanne-friends/
LOCATION:Z Club Joshua Tree\, 61877 29 Palms Hwy.\, Joshua Tree\, CA\, 92252\, United States
CATEGORIES:Le Jazzanne
ATTACH;FMTTYPE=image/jpeg:https://zclub.elementor.cloud/wp-content/uploads/2025/12/Screenshot-2025-12-10-at-3.58.45-PM.jpeg
END:VEVENT
BEGIN:VEVENT
DTSTART;TZID=America/Los_Angeles:20251212T190000
DTEND;TZID=America/Los_Angeles:20251212T220000
DTSTAMP:20260420T092109
CREATED:20251210T160130Z
LAST-MODIFIED:20251211T000048Z
UID:1236-1765566000-1765576800@zclub.elementor.cloud
SUMMARY:Le Jazzanne featuring Susan Henry vocals & saxophone
DESCRIPTION:
URL:https://zclub.elementor.cloud/event/le-jazzanne-21/
LOCATION:CA
CATEGORIES:Le Jazzanne
ATTACH;FMTTYPE=image/jpeg:https://zclub.elementor.cloud/wp-content/uploads/2025/12/Screenshot-2025-12-10-at-3.58.45-PM.jpeg
END:VEVENT
BEGIN:VEVENT
DTSTART;TZID=America/Los_Angeles:20251205T190000
DTEND;TZID=America/Los_Angeles:20251205T220000
DTSTAMP:20260420T092109
CREATED:20251123T003348Z
LAST-MODIFIED:20251123T003348Z
UID:1210-1764961200-1764972000@zclub.elementor.cloud
SUMMARY:Le Jazzanne
DESCRIPTION:
URL:https://zclub.elementor.cloud/event/le-jazzanne-19/
LOCATION:Z Club Joshua Tree\, 61877 29 Palms Hwy.\, Joshua Tree\, CA\, 92252\, United States
CATEGORIES:Le Jazzanne
ATTACH;FMTTYPE=image/jpeg:https://zclub.elementor.cloud/wp-content/uploads/2025/11/IMG_6651.jpg
END:VEVENT
BEGIN:VEVENT
DTSTART;TZID=America/Los_Angeles:20251128T190000
DTEND;TZID=America/Los_Angeles:20251128T220000
DTSTAMP:20260420T092109
CREATED:20251125T000127Z
LAST-MODIFIED:20251125T000127Z
UID:1223-1764356400-1764367200@zclub.elementor.cloud
SUMMARY:Le Jazzanne
DESCRIPTION:
URL:https://zclub.elementor.cloud/event/le-jazzanne-20/
LOCATION:Z Club Joshua Tree\, 61877 29 Palms Hwy.\, Joshua Tree\, CA\, 92252\, United States
CATEGORIES:Le Jazzanne
ATTACH;FMTTYPE=image/jpeg:https://zclub.elementor.cloud/wp-content/uploads/2025/11/IMG_6651.jpg
END:VEVENT
BEGIN:VEVENT
DTSTART;TZID=America/Los_Angeles:20251121T190000
DTEND;TZID=America/Los_Angeles:20251121T220000
DTSTAMP:20260420T092109
CREATED:20251104T002733Z
LAST-MODIFIED:20251104T002733Z
UID:1184-1763751600-1763762400@zclub.elementor.cloud
SUMMARY:Le Jazzanne
DESCRIPTION:House Band featuring Susan Henry
URL:https://zclub.elementor.cloud/event/le-jazzanne-18/
LOCATION:Z Club Joshua Tree\, 61877 29 Palms Hwy.\, Joshua Tree\, CA\, 92252\, United States
CATEGORIES:Le Jazzanne
ATTACH;FMTTYPE=image/jpeg:https://zclub.elementor.cloud/wp-content/uploads/2025/11/IMG_6651.jpg
END:VEVENT
BEGIN:VEVENT
DTSTART;TZID=America/Los_Angeles:20251114T190000
DTEND;TZID=America/Los_Angeles:20251114T220000
DTSTAMP:20260420T092109
CREATED:20251104T002354Z
LAST-MODIFIED:20251104T002354Z
UID:1182-1763146800-1763157600@zclub.elementor.cloud
SUMMARY:Le Jazzanne
DESCRIPTION:House band featuring Susan Henry
URL:https://zclub.elementor.cloud/event/le-jazzanne-17/
LOCATION:Z Club Joshua Tree\, 61877 29 Palms Hwy.\, Joshua Tree\, CA\, 92252\, United States
CATEGORIES:Le Jazzanne
ATTACH;FMTTYPE=image/jpeg:https://zclub.elementor.cloud/wp-content/uploads/2025/11/IMG_6651.jpg
END:VEVENT
BEGIN:VEVENT
DTSTART;TZID=America/Los_Angeles:20251107T190000
DTEND;TZID=America/Los_Angeles:20251107T220000
DTSTAMP:20260420T092109
CREATED:20251103T233224Z
LAST-MODIFIED:20251103T233224Z
UID:1157-1762542000-1762552800@zclub.elementor.cloud
SUMMARY:Le Jazzanne
DESCRIPTION:House Band featuring Susan Henry
URL:https://zclub.elementor.cloud/event/le-jazzanne-16/
LOCATION:Z Club Joshua Tree\, 61877 29 Palms Hwy.\, Joshua Tree\, CA\, 92252\, United States
CATEGORIES:Le Jazzanne
ATTACH;FMTTYPE=image/jpeg:https://zclub.elementor.cloud/wp-content/uploads/2025/11/IMG_6651.jpg
END:VEVENT
BEGIN:VEVENT
DTSTART;TZID=America/Los_Angeles:20251031T190000
DTEND;TZID=America/Los_Angeles:20251031T220000
DTSTAMP:20260420T092109
CREATED:20251006T042237Z
LAST-MODIFIED:20251006T184328Z
UID:1131-1761937200-1761948000@zclub.elementor.cloud
SUMMARY:Le Jazzanne
DESCRIPTION:House Band featuring Susan Henry!
URL:https://zclub.elementor.cloud/event/le-jazzanne-14/
LOCATION:Z Club Joshua Tree\, 61877 29 Palms Hwy.\, Joshua Tree\, CA\, 92252\, United States
CATEGORIES:Le Jazzanne
ATTACH;FMTTYPE=image/jpeg:https://zclub.elementor.cloud/wp-content/uploads/2025/10/IMG_5421.jpg
END:VEVENT
BEGIN:VEVENT
DTSTART;TZID=America/Los_Angeles:20251024T190000
DTEND;TZID=America/Los_Angeles:20251024T220000
DTSTAMP:20260420T092109
CREATED:20251006T042108Z
LAST-MODIFIED:20251006T042108Z
UID:1129-1761332400-1761343200@zclub.elementor.cloud
SUMMARY:Le Jazzanne
DESCRIPTION:House Band featuring Susan Henry!
URL:https://zclub.elementor.cloud/event/le-jazzanne-13/
LOCATION:Z Club Joshua Tree\, 61877 29 Palms Hwy.\, Joshua Tree\, CA\, 92252\, United States
CATEGORIES:Le Jazzanne
ATTACH;FMTTYPE=image/jpeg:https://zclub.elementor.cloud/wp-content/uploads/2025/09/IMG_5308.jpg
END:VEVENT
BEGIN:VEVENT
DTSTART;TZID=America/Los_Angeles:20251017T190000
DTEND;TZID=America/Los_Angeles:20251017T220000
DTSTAMP:20260420T092109
CREATED:20251006T041931Z
LAST-MODIFIED:20251006T041931Z
UID:1125-1760727600-1760738400@zclub.elementor.cloud
SUMMARY:Le Jazzanne
DESCRIPTION:House Band featuring Susan Henry!
URL:https://zclub.elementor.cloud/event/le-jazzanne-12/
LOCATION:Z Club Joshua Tree\, 61877 29 Palms Hwy.\, Joshua Tree\, CA\, 92252\, United States
CATEGORIES:Le Jazzanne
ATTACH;FMTTYPE=image/jpeg:https://zclub.elementor.cloud/wp-content/uploads/2025/09/IMG_5308.jpg
END:VEVENT
BEGIN:VEVENT
DTSTART;TZID=America/Los_Angeles:20251011T190000
DTEND;TZID=America/Los_Angeles:20251011T220000
DTSTAMP:20260420T092109
CREATED:20251006T183131Z
LAST-MODIFIED:20251006T183131Z
UID:1136-1760209200-1760220000@zclub.elementor.cloud
SUMMARY:Le Jazzanne
DESCRIPTION:House band featuring Susan Henry!
URL:https://zclub.elementor.cloud/event/le-jazzanne-15/
LOCATION:Z Club Joshua Tree\, 61877 29 Palms Hwy.\, Joshua Tree\, CA\, 92252\, United States
CATEGORIES:Le Jazzanne
ATTACH;FMTTYPE=image/jpeg:https://zclub.elementor.cloud/wp-content/uploads/2025/09/IMG_5308.jpg
END:VEVENT
BEGIN:VEVENT
DTSTART;TZID=America/Los_Angeles:20251004T190000
DTEND;TZID=America/Los_Angeles:20251004T220000
DTSTAMP:20260420T092109
CREATED:20250929T001005Z
LAST-MODIFIED:20250929T002432Z
UID:1101-1759604400-1759615200@zclub.elementor.cloud
SUMMARY:Le Jazzanne
DESCRIPTION:House Band featuring Susan Henry \n*Playing Saturday instead of Friday this week
URL:https://zclub.elementor.cloud/event/le-jazzanne-11/
LOCATION:Z Club Joshua Tree\, 61877 29 Palms Hwy.\, Joshua Tree\, CA\, 92252\, United States
CATEGORIES:Le Jazzanne
ATTACH;FMTTYPE=image/jpeg:https://zclub.elementor.cloud/wp-content/uploads/2025/09/IMG_5308.jpg
END:VEVENT
BEGIN:VEVENT
DTSTART;TZID=America/Los_Angeles:20250926T190000
DTEND;TZID=America/Los_Angeles:20250926T220000
DTSTAMP:20260420T092109
CREATED:20250920T213053Z
LAST-MODIFIED:20250920T213053Z
UID:1077-1758913200-1758924000@zclub.elementor.cloud
SUMMARY:Le Jazzanne
DESCRIPTION:Our house band featuring Susan Henry!
URL:https://zclub.elementor.cloud/event/le-jazzanne-10/
LOCATION:Z Club Joshua Tree\, 61877 29 Palms Hwy.\, Joshua Tree\, CA\, 92252\, United States
CATEGORIES:Le Jazzanne
ATTACH;FMTTYPE=image/jpeg:https://zclub.elementor.cloud/wp-content/uploads/2025/07/IMG_3368.jpg
END:VEVENT
END:VCALENDAR