BEGIN:VCALENDAR
VERSION:2.0
PRODID:-//Z Club Joshua Tree • Live Music and Cocktails - ECPv6.14.0//NONSGML v1.0//EN
CALSCALE:GREGORIAN
METHOD:PUBLISH
X-WR-CALNAME:Z Club Joshua Tree • Live Music and Cocktails
X-ORIGINAL-URL:https://zclub.elementor.cloud
X-WR-CALDESC:Events for Z Club Joshua Tree • Live Music and Cocktails
REFRESH-INTERVAL;VALUE=DURATION:PT1H
X-Robots-Tag:noindex
X-PUBLISHED-TTL:PT1H
BEGIN:VTIMEZONE
TZID:America/Los_Angeles
BEGIN:DAYLIGHT
TZOFFSETFROM:-0800
TZOFFSETTO:-0700
TZNAME:PDT
DTSTART:20260308T100000
END:DAYLIGHT
BEGIN:STANDARD
TZOFFSETFROM:-0700
TZOFFSETTO:-0800
TZNAME:PST
DTSTART:20261101T090000
END:STANDARD
END:VTIMEZONE
BEGIN:VEVENT
DTSTART;TZID=America/Los_Angeles:20260426T193000
DTEND;TZID=America/Los_Angeles:20260426T220000
DTSTAMP:20260420T101541
CREATED:20260418T211638Z
LAST-MODIFIED:20260418T213644Z
UID:1510-1777231800-1777240800@zclub.elementor.cloud
SUMMARY:Kittys Music
DESCRIPTION:kitty has performed in 17 countries\, winning awards for recording projects in italy and wales. kitty’s worked with bands les minouches atomiques\, the jiveoholics\, ebony bones\, yolanda eyama’s afro world groove\, playing festivals around the world. kitty’s own projects include triflesky\, kitty’s trio (albums on kittysmusic.bandcamp.com)\, kitty’s little big band (soundcloud/youtube) and kitty & the purramours. styles range from jazz and swing to blues\, gospel\, edm\, triphop\, ambient house and more.
URL:https://zclub.elementor.cloud/event/kittys-music/
LOCATION:Z Club Joshua Tree\, 61877 29 Palms Hwy.\, Joshua Tree\, CA\, 92252\, United States
CATEGORIES:Kittys Music
ATTACH;FMTTYPE=image/jpeg:https://zclub.elementor.cloud/wp-content/uploads/2026/04/IMG_2352.jpg
END:VEVENT
END:VCALENDAR