BEGIN:VCALENDAR
VERSION:2.0
PRODID:-//Z Club Joshua Tree • Live Music and Cocktails - ECPv6.14.0//NONSGML v1.0//EN
CALSCALE:GREGORIAN
METHOD:PUBLISH
X-WR-CALNAME:Z Club Joshua Tree • Live Music and Cocktails
X-ORIGINAL-URL:https://zclub.elementor.cloud
X-WR-CALDESC:Events for Z Club Joshua Tree • Live Music and Cocktails
REFRESH-INTERVAL;VALUE=DURATION:PT1H
X-Robots-Tag:noindex
X-PUBLISHED-TTL:PT1H
BEGIN:VTIMEZONE
TZID:America/Los_Angeles
BEGIN:DAYLIGHT
TZOFFSETFROM:-0800
TZOFFSETTO:-0700
TZNAME:PDT
DTSTART:20250309T100000
END:DAYLIGHT
BEGIN:STANDARD
TZOFFSETFROM:-0700
TZOFFSETTO:-0800
TZNAME:PST
DTSTART:20251102T090000
END:STANDARD
BEGIN:DAYLIGHT
TZOFFSETFROM:-0800
TZOFFSETTO:-0700
TZNAME:PDT
DTSTART:20260308T100000
END:DAYLIGHT
BEGIN:STANDARD
TZOFFSETFROM:-0700
TZOFFSETTO:-0800
TZNAME:PST
DTSTART:20261101T090000
END:STANDARD
END:VTIMEZONE
BEGIN:VEVENT
DTSTART;TZID=America/Los_Angeles:20260416T200000
DTEND;TZID=America/Los_Angeles:20260416T220000
DTSTAMP:20260420T135935
CREATED:20260405T031251Z
LAST-MODIFIED:20260405T031251Z
UID:1476-1776369600-1776376800@zclub.elementor.cloud
SUMMARY:Joke Slingers Comedy Night
DESCRIPTION:Please arrive at 7:30pm to get a good seat!
URL:https://zclub.elementor.cloud/event/joke-slingers-comedy-night/
LOCATION:Z Club Joshua Tree\, 61877 29 Palms Hwy.\, Joshua Tree\, CA\, 92252\, United States
CATEGORIES:Joke Slingers
ATTACH;FMTTYPE=image/png:https://zclub.elementor.cloud/wp-content/uploads/2026/04/View-recent-photos-6.png
END:VEVENT
BEGIN:VEVENT
DTSTART;TZID=America/Los_Angeles:20260319T193000
DTEND;TZID=America/Los_Angeles:20260319T220000
DTSTAMP:20260420T135935
CREATED:20260303T003146Z
LAST-MODIFIED:20260317T084132Z
UID:1423-1773948600-1773957600@zclub.elementor.cloud
SUMMARY:Joke Slingers
DESCRIPTION:Hosted by Dave Thompson\n–\nEvery third Thursday of the month\, the Z Club transforms into a comedy club. Brand new lineups and endless laughs! \n\nI’m so sorry the February show didn’t work out. But we weathered the storm and we are back at the beautiful @ with another amazing lineup! \nEvery third Thursday\, you can expect an amazing FREE show as well as great drinks/fun! We packed out last month. Reserve your free tickets now! \nThis month features headliner:\nShaena Rabbani \nShaena performs at comedy clubs all over the country. She was named a “Comic to Watch” at the New York Comedy Festival last year. She has a LMAOF special out now. She has opened for Dave Attell\, Big Jay Oakerson\, and many more. \nBut next month\, she is gonna be in Joshua Tree bringing the laughs with special guests! You never know who might drop in 😉 \nReserve your FREE SEATS now to see Shaena\, myself and surprise guests!
URL:https://zclub.elementor.cloud/event/joke-slingers-2/
LOCATION:Z Club Joshua Tree\, 61877 29 Palms Hwy.\, Joshua Tree\, CA\, 92252\, United States
CATEGORIES:Joke Slingers
ATTACH;FMTTYPE=image/webp:https://zclub.elementor.cloud/wp-content/uploads/2026/03/image.webp
END:VEVENT
BEGIN:VEVENT
DTSTART;TZID=America/Los_Angeles:20260219T200000
DTEND;TZID=America/Los_Angeles:20260219T220000
DTSTAMP:20260420T135935
CREATED:20260130T204412Z
LAST-MODIFIED:20260217T195559Z
UID:1356-1771531200-1771538400@zclub.elementor.cloud
SUMMARY:Joke Slingers
DESCRIPTION:*UPDATE: Cancelled due to weather* See you the 3rd Thursday in March
URL:https://zclub.elementor.cloud/event/joke-slingers/
LOCATION:CA
CATEGORIES:Joke Slingers
ATTACH;FMTTYPE=image/png:https://zclub.elementor.cloud/wp-content/uploads/2026/01/View-recent-photos-4.png
END:VEVENT
BEGIN:VEVENT
DTSTART;TZID=America/Los_Angeles:20260115T200000
DTEND;TZID=America/Los_Angeles:20260115T220000
DTSTAMP:20260420T135935
CREATED:20260106T224536Z
LAST-MODIFIED:20260106T224536Z
UID:1302-1768507200-1768514400@zclub.elementor.cloud
SUMMARY:Joke Slingers with Dave Thompson
DESCRIPTION:https://www.eventbrite.com/e/jokeslingers-comedy-show-tickets-1978035315877
URL:https://zclub.elementor.cloud/event/joke-slingers-with-dave-thompson/
LOCATION:Z Club Joshua Tree\, 61877 29 Palms Hwy.\, Joshua Tree\, CA\, 92252\, United States
CATEGORIES:Joke Slingers
ATTACH;FMTTYPE=image/png:https://zclub.elementor.cloud/wp-content/uploads/2026/01/Screenshot-2026-01-06-at-2.43.22-PM.png
END:VEVENT
BEGIN:VEVENT
DTSTART;TZID=America/Los_Angeles:20251106T200000
DTEND;TZID=America/Los_Angeles:20251106T220000
DTSTAMP:20260420T135935
CREATED:20251103T213108Z
LAST-MODIFIED:20251103T213108Z
UID:1154-1762459200-1762466400@zclub.elementor.cloud
SUMMARY:Joke Slingers Comedy Show: Hosted by Dave Thompson with Headliner Kat Bird
DESCRIPTION:
URL:https://zclub.elementor.cloud/event/joke-slingers-comedy-show-hosted-by-dave-thompson-with-headliner-kat-bird/
LOCATION:Z Club Joshua Tree\, 61877 29 Palms Hwy.\, Joshua Tree\, CA\, 92252\, United States
CATEGORIES:Joke Slingers
ATTACH;FMTTYPE=image/jpeg:https://zclub.elementor.cloud/wp-content/uploads/2025/11/IMG_6646.jpg
END:VEVENT
END:VCALENDAR