BEGIN:VCALENDAR
VERSION:2.0
PRODID:-//Z Club Joshua Tree • Live Music and Cocktails - ECPv6.14.0//NONSGML v1.0//EN
CALSCALE:GREGORIAN
METHOD:PUBLISH
X-ORIGINAL-URL:https://zclub.elementor.cloud
X-WR-CALDESC:Events for Z Club Joshua Tree • Live Music and Cocktails
REFRESH-INTERVAL;VALUE=DURATION:PT1H
X-Robots-Tag:noindex
X-PUBLISHED-TTL:PT1H
BEGIN:VTIMEZONE
TZID:America/Los_Angeles
BEGIN:DAYLIGHT
TZOFFSETFROM:-0800
TZOFFSETTO:-0700
TZNAME:PDT
DTSTART:20250309T100000
END:DAYLIGHT
BEGIN:STANDARD
TZOFFSETFROM:-0700
TZOFFSETTO:-0800
TZNAME:PST
DTSTART:20251102T090000
END:STANDARD
BEGIN:DAYLIGHT
TZOFFSETFROM:-0800
TZOFFSETTO:-0700
TZNAME:PDT
DTSTART:20260308T100000
END:DAYLIGHT
BEGIN:STANDARD
TZOFFSETFROM:-0700
TZOFFSETTO:-0800
TZNAME:PST
DTSTART:20261101T090000
END:STANDARD
END:VTIMEZONE
BEGIN:VEVENT
DTSTART;TZID=America/Los_Angeles:20260417T193000
DTEND;TZID=America/Los_Angeles:20260417T220000
DTSTAMP:20260420T154750
CREATED:20260405T033241Z
LAST-MODIFIED:20260405T033241Z
UID:1479-1776454200-1776463200@zclub.elementor.cloud
SUMMARY:Jeremie Levi Samson & Friends
DESCRIPTION:
URL:https://zclub.elementor.cloud/event/jeremie-levi-samson-friends-2/
LOCATION:Z Club Joshua Tree\, 61877 29 Palms Hwy.\, Joshua Tree\, CA\, 92252\, United States
CATEGORIES:Jeremie Levi Samson
ATTACH;FMTTYPE=image/png:https://zclub.elementor.cloud/wp-content/uploads/2026/04/Screenshot-2026-04-04-at-8.30.51-PM.png
END:VEVENT
BEGIN:VEVENT
DTSTART;TZID=America/Los_Angeles:20260314T190000
DTEND;TZID=America/Los_Angeles:20260314T220000
DTSTAMP:20260420T154750
CREATED:20260303T001241Z
LAST-MODIFIED:20260303T001241Z
UID:1416-1773514800-1773525600@zclub.elementor.cloud
SUMMARY:Jeremie Levi Samson & Friends
DESCRIPTION:A dynamic and versatile performer\, Jeremie Levi Samson brings soul\, precision\, and deep musicality to every stage he steps on. Known for his expressive style and collaborative spirit\, he moves effortlessly between genres\, creating performances that feel both powerful and intimate.
URL:https://zclub.elementor.cloud/event/jeremie-levi-samson-friends/
LOCATION:Z Club Joshua Tree\, 61877 29 Palms Hwy.\, Joshua Tree\, CA\, 92252\, United States
CATEGORIES:Jeremie Levi Samson
ATTACH;FMTTYPE=image/jpeg:https://zclub.elementor.cloud/wp-content/uploads/2026/03/Pink-and-Purple-Bowling-Invitation.jpeg
END:VEVENT
BEGIN:VEVENT
DTSTART;TZID=America/Los_Angeles:20251129T193000
DTEND;TZID=America/Los_Angeles:20251129T220000
DTSTAMP:20260420T154750
CREATED:20251112T032703Z
LAST-MODIFIED:20251112T033143Z
UID:1198-1764444600-1764453600@zclub.elementor.cloud
SUMMARY:Jeremie Levi Samson
DESCRIPTION:
URL:https://zclub.elementor.cloud/event/jeremie-levi-samson-2/
LOCATION:Z Club Joshua Tree\, 61877 29 Palms Hwy.\, Joshua Tree\, CA\, 92252\, United States
CATEGORIES:Jeremie Levi Samson
ATTACH;FMTTYPE=image/jpeg:https://zclub.elementor.cloud/wp-content/uploads/2025/11/Screenshot-2025-11-11-at-7.28.25-PM.jpg
END:VEVENT
END:VCALENDAR