BEGIN:VCALENDAR
VERSION:2.0
PRODID:-//Z Club Joshua Tree • Live Music and Cocktails - ECPv6.14.0//NONSGML v1.0//EN
CALSCALE:GREGORIAN
METHOD:PUBLISH
X-ORIGINAL-URL:https://zclub.elementor.cloud
X-WR-CALDESC:Events for Z Club Joshua Tree • Live Music and Cocktails
REFRESH-INTERVAL;VALUE=DURATION:PT1H
X-Robots-Tag:noindex
X-PUBLISHED-TTL:PT1H
BEGIN:VTIMEZONE
TZID:America/Los_Angeles
BEGIN:DAYLIGHT
TZOFFSETFROM:-0800
TZOFFSETTO:-0700
TZNAME:PDT
DTSTART:20250309T100000
END:DAYLIGHT
BEGIN:STANDARD
TZOFFSETFROM:-0700
TZOFFSETTO:-0800
TZNAME:PST
DTSTART:20251102T090000
END:STANDARD
BEGIN:DAYLIGHT
TZOFFSETFROM:-0800
TZOFFSETTO:-0700
TZNAME:PDT
DTSTART:20260308T100000
END:DAYLIGHT
BEGIN:STANDARD
TZOFFSETFROM:-0700
TZOFFSETTO:-0800
TZNAME:PST
DTSTART:20261101T090000
END:STANDARD
END:VTIMEZONE
BEGIN:VEVENT
DTSTART;TZID=America/Los_Angeles:20260409T193000
DTEND;TZID=America/Los_Angeles:20260409T220000
DTSTAMP:20260420T140931
CREATED:20260405T022157Z
LAST-MODIFIED:20260405T022157Z
UID:1462-1775763000-1775772000@zclub.elementor.cloud
SUMMARY:Jeff Lantz
DESCRIPTION:
URL:https://zclub.elementor.cloud/event/jeff-lantz-3/
LOCATION:Z Club Joshua Tree\, 61877 29 Palms Hwy.\, Joshua Tree\, CA\, 92252\, United States
CATEGORIES:Jeff Lantz
ATTACH;FMTTYPE=image/png:https://zclub.elementor.cloud/wp-content/uploads/2026/04/Screenshot-2026-04-04-at-7.20.57-PM.png
END:VEVENT
BEGIN:VEVENT
DTSTART;TZID=America/Los_Angeles:20260312T190000
DTEND;TZID=America/Los_Angeles:20260312T220000
DTSTAMP:20260420T140931
CREATED:20260302T232724Z
LAST-MODIFIED:20260302T232724Z
UID:1411-1773342000-1773352800@zclub.elementor.cloud
SUMMARY:Jeff Lantz
DESCRIPTION:If music had a passport\, Jeff Lantz’s would be stamped in every genre (plus a few undiscovered ones). Pianist\, composer\, performer\, collaborator\, and coach\, he’s lived a road-worn\, jazz-dusted life—moving from concert halls to hole-in-the-wall clubs\, sharing stages with legends and surprise drop-ins alike. Still joyfully devoted to the piano\, his latest album It’s Okay to Be Happy turns joy all the way up. Now he brings the songs and stories to an intimate night at The Z Club – where every note feels personal. 🎶
URL:https://zclub.elementor.cloud/event/jeff-lantz-2/
LOCATION:Z Club Joshua Tree\, 61877 29 Palms Hwy.\, Joshua Tree\, CA\, 92252\, United States
CATEGORIES:Jeff Lantz
ATTACH;FMTTYPE=image/jpeg:https://zclub.elementor.cloud/wp-content/uploads/2026/03/IMG_0600.jpg
END:VEVENT
BEGIN:VEVENT
DTSTART;TZID=America/Los_Angeles:20260117T190000
DTEND;TZID=America/Los_Angeles:20260117T220000
DTSTAMP:20260420T140931
CREATED:20260106T225512Z
LAST-MODIFIED:20260106T225512Z
UID:1307-1768676400-1768687200@zclub.elementor.cloud
SUMMARY:Jeff Lantz
DESCRIPTION:
URL:https://zclub.elementor.cloud/event/jeff-lantz/
LOCATION:Z Club Joshua Tree\, 61877 29 Palms Hwy.\, Joshua Tree\, CA\, 92252\, United States
CATEGORIES:Jeff Lantz
ATTACH;FMTTYPE=image/jpeg:https://zclub.elementor.cloud/wp-content/uploads/2026/01/IMG_8341.jpg
END:VEVENT
BEGIN:VEVENT
DTSTART;TZID=America/Los_Angeles:20251213T193000
DTEND;TZID=America/Los_Angeles:20251213T220000
DTSTAMP:20260420T140931
CREATED:20251209T202115Z
LAST-MODIFIED:20251209T202115Z
UID:1233-1765654200-1765663200@zclub.elementor.cloud
SUMMARY:Jeff Lantz in Concert: “Songs and Stories from a Life on the Road”
DESCRIPTION:If music had its own postal system\, Jeff Lantz’s passport would be stamped in every known genre and at least three undiscovered ones. A pianist\, composer\, performing artist\, collaborator\, and coach\, he found his calling at the age of eight – long before most kids can reliably tie their shoes\, let alone choose a destiny – and has since lived the kind of road-worn\, star-studded\, jazz-dusted life touring musicians trade stories about at 2 a.m. He’s played everything from classical halls with perfect acoustics to jazz clubs where the air hums\, rock stages roaring with eighty thousand fans\, and hole-in-the-wall venues so small you could order a drink and thank the bartender without leaving your bench\, sharing stages with household names\, beloved local pros\, and the occasional musician who materializes mid-song\, as they somehow always do around him. Through it all\, Jeff remains joyfully devoted to music\, recording\, teaching\, and performing with the same enthusiasm he had when he first fell in love with the piano\, a spirit echoed in his latest album\, It’s Okay to Be Happy\, a melodic reminder that joy deserves volume. Now he brings that lifetime of stories\, songs\, and serendipity to an intimate concert at The Z Club – a rare chance to hear a master up close\, where every note feels personal and every tale lands like a secret shared.
URL:https://zclub.elementor.cloud/event/jeff-lantz-in-concert-songs-and-stories-from-a-life-on-the-road/
LOCATION:Z Club Joshua Tree\, 61877 29 Palms Hwy.\, Joshua Tree\, CA\, 92252\, United States
CATEGORIES:Jeff Lantz
ATTACH;FMTTYPE=image/jpeg:https://zclub.elementor.cloud/wp-content/uploads/2025/12/IMG_7548.jpeg
END:VEVENT
END:VCALENDAR