BEGIN:VCALENDAR
VERSION:2.0
PRODID:-//Z Club Joshua Tree • Live Music and Cocktails - ECPv6.14.0//NONSGML v1.0//EN
CALSCALE:GREGORIAN
METHOD:PUBLISH
X-ORIGINAL-URL:https://zclub.elementor.cloud
X-WR-CALDESC:Events for Z Club Joshua Tree • Live Music and Cocktails
REFRESH-INTERVAL;VALUE=DURATION:PT1H
X-Robots-Tag:noindex
X-PUBLISHED-TTL:PT1H
BEGIN:VTIMEZONE
TZID:America/Los_Angeles
BEGIN:DAYLIGHT
TZOFFSETFROM:-0800
TZOFFSETTO:-0700
TZNAME:PDT
DTSTART:20250309T100000
END:DAYLIGHT
BEGIN:STANDARD
TZOFFSETFROM:-0700
TZOFFSETTO:-0800
TZNAME:PST
DTSTART:20251102T090000
END:STANDARD
BEGIN:DAYLIGHT
TZOFFSETFROM:-0800
TZOFFSETTO:-0700
TZNAME:PDT
DTSTART:20260308T100000
END:DAYLIGHT
BEGIN:STANDARD
TZOFFSETFROM:-0700
TZOFFSETTO:-0800
TZNAME:PST
DTSTART:20261101T090000
END:STANDARD
END:VTIMEZONE
BEGIN:VEVENT
DTSTART;TZID=America/Los_Angeles:20260419T193000
DTEND;TZID=America/Los_Angeles:20260419T220000
DTSTAMP:20260420T091951
CREATED:20260405T030611Z
LAST-MODIFIED:20260415T025616Z
UID:1474-1776627000-1776636000@zclub.elementor.cloud
SUMMARY:Jazz Jam with Doug Macdonald
DESCRIPTION:
URL:https://zclub.elementor.cloud/event/jazz-jam-with-doug-macdonald-22/
LOCATION:Z Club Joshua Tree\, 61877 29 Palms Hwy.\, Joshua Tree\, CA\, 92252\, United States
CATEGORIES:Jazz Jam Session
ATTACH;FMTTYPE=image/jpeg:https://zclub.elementor.cloud/wp-content/uploads/2026/03/IMG_0011.jpg
END:VEVENT
BEGIN:VEVENT
DTSTART;TZID=America/Los_Angeles:20260401T193000
DTEND;TZID=America/Los_Angeles:20260401T220000
DTSTAMP:20260420T091951
CREATED:20260405T015857Z
LAST-MODIFIED:20260405T015857Z
UID:1450-1775071800-1775080800@zclub.elementor.cloud
SUMMARY:Jazz Jam with Doug Macdonald
DESCRIPTION:
URL:https://zclub.elementor.cloud/event/jazz-jam-with-doug-macdonald-21/
LOCATION:Z Club Joshua Tree\, 61877 29 Palms Hwy.\, Joshua Tree\, CA\, 92252\, United States
CATEGORIES:Jazz Jam Session
ATTACH;FMTTYPE=image/jpeg:https://zclub.elementor.cloud/wp-content/uploads/2026/01/IMG_0011.jpg
END:VEVENT
BEGIN:VEVENT
DTSTART;TZID=America/Los_Angeles:20260318T190000
DTEND;TZID=America/Los_Angeles:20260318T220000
DTSTAMP:20260420T091951
CREATED:20260303T002330Z
LAST-MODIFIED:20260303T002539Z
UID:1419-1773860400-1773871200@zclub.elementor.cloud
SUMMARY:Jazz Jam with Doug Macdonald
DESCRIPTION:Bring your axe and join the session!
URL:https://zclub.elementor.cloud/event/jazz-jam-with-doug-macdonald-20/
LOCATION:Z Club Joshua Tree\, 61877 29 Palms Hwy.\, Joshua Tree\, CA\, 92252\, United States
CATEGORIES:Jazz Jam Session
ATTACH;FMTTYPE=image/jpeg:https://zclub.elementor.cloud/wp-content/uploads/2026/01/IMG_0011.jpg
END:VEVENT
BEGIN:VEVENT
DTSTART;TZID=America/Los_Angeles:20260218T190000
DTEND;TZID=America/Los_Angeles:20260218T220000
DTSTAMP:20260420T091951
CREATED:20260131T012747Z
LAST-MODIFIED:20260216T234247Z
UID:1367-1771441200-1771452000@zclub.elementor.cloud
SUMMARY:Jazz Jam with Doug Macdonald
DESCRIPTION:Bring your axe!
URL:https://zclub.elementor.cloud/event/jazz-jam-with-doug-macdonald-18/
LOCATION:Z Club Joshua Tree\, 61877 29 Palms Hwy.\, Joshua Tree\, CA\, 92252\, United States
CATEGORIES:Jazz Jam Session
ATTACH;FMTTYPE=image/jpeg:https://zclub.elementor.cloud/wp-content/uploads/2026/01/IMG_0011.jpg
END:VEVENT
BEGIN:VEVENT
DTSTART;TZID=America/Los_Angeles:20260204T190000
DTEND;TZID=America/Los_Angeles:20260204T220000
DTSTAMP:20260420T091951
CREATED:20260125T223104Z
LAST-MODIFIED:20260204T174556Z
UID:1331-1770231600-1770242400@zclub.elementor.cloud
SUMMARY:Jazz Jam with Doug Macdonald
DESCRIPTION:
URL:https://zclub.elementor.cloud/event/jazz-jam-with-doug-macdonald-17/
LOCATION:Z Club Joshua Tree\, 61877 29 Palms Hwy.\, Joshua Tree\, CA\, 92252\, United States
CATEGORIES:Jazz Jam Session
ATTACH;FMTTYPE=image/jpeg:https://zclub.elementor.cloud/wp-content/uploads/2026/01/IMG_9537.jpg
END:VEVENT
BEGIN:VEVENT
DTSTART;TZID=America/Los_Angeles:20260121T190000
DTEND;TZID=America/Los_Angeles:20260121T220000
DTSTAMP:20260420T091951
CREATED:20260106T225748Z
LAST-MODIFIED:20260106T225802Z
UID:1310-1769022000-1769032800@zclub.elementor.cloud
SUMMARY:Jazz Jam with Doug Macdonald
DESCRIPTION:
URL:https://zclub.elementor.cloud/event/jazz-jam-with-doug-macdonald-16/
LOCATION:Z Club Joshua Tree\, 61877 29 Palms Hwy.\, Joshua Tree\, CA\, 92252\, United States
CATEGORIES:Jazz Jam Session
ATTACH;FMTTYPE=image/jpeg:https://zclub.elementor.cloud/wp-content/uploads/2025/11/IMG_6649.jpg
END:VEVENT
BEGIN:VEVENT
DTSTART;TZID=America/Los_Angeles:20260107T190000
DTEND;TZID=America/Los_Angeles:20260107T220000
DTSTAMP:20260420T091951
CREATED:20251222T231626Z
LAST-MODIFIED:20251222T231626Z
UID:1278-1767812400-1767823200@zclub.elementor.cloud
SUMMARY:Jazz Jam with Doug Macdonald
DESCRIPTION:
URL:https://zclub.elementor.cloud/event/jazz-jam-with-doug-macdonald-15/
LOCATION:Z Club Joshua Tree\, 61877 29 Palms Hwy.\, Joshua Tree\, CA\, 92252\, United States
CATEGORIES:Jazz Jam Session
ATTACH;FMTTYPE=image/jpeg:https://zclub.elementor.cloud/wp-content/uploads/2025/11/IMG_6649.jpg
END:VEVENT
BEGIN:VEVENT
DTSTART;TZID=America/Los_Angeles:20251217T190000
DTEND;TZID=America/Los_Angeles:20251217T220000
DTSTAMP:20260420T091951
CREATED:20251213T234432Z
LAST-MODIFIED:20251213T234432Z
UID:1255-1765998000-1766008800@zclub.elementor.cloud
SUMMARY:Jazz Jam with Richard Turner\, Jr.
DESCRIPTION:Richard Turner stepping in for Doug Macdonald. Baring your axe and join the jazz jam session!
URL:https://zclub.elementor.cloud/event/jazz-jam-with-richard-turner-jr/
LOCATION:Z Club Joshua Tree\, 61877 29 Palms Hwy.\, Joshua Tree\, CA\, 92252\, United States
CATEGORIES:Jazz Jam Session
ATTACH;FMTTYPE=image/jpeg:https://zclub.elementor.cloud/wp-content/uploads/2025/12/Screenshot-2025-12-13-at-3.43.02-PM.jpeg
END:VEVENT
BEGIN:VEVENT
DTSTART;TZID=America/Los_Angeles:20251210T190000
DTEND;TZID=America/Los_Angeles:20251210T220000
DTSTAMP:20260420T091951
CREATED:20251123T003653Z
LAST-MODIFIED:20251123T003653Z
UID:1214-1765393200-1765404000@zclub.elementor.cloud
SUMMARY:Jazz Jam with Doug Macdonald
DESCRIPTION:
URL:https://zclub.elementor.cloud/event/jazz-jam-with-doug-macdonald-14/
LOCATION:Z Club Joshua Tree\, 61877 29 Palms Hwy.\, Joshua Tree\, CA\, 92252\, United States
CATEGORIES:Jazz Jam Session
ATTACH;FMTTYPE=image/jpeg:https://zclub.elementor.cloud/wp-content/uploads/2025/11/IMG_6649.jpg
END:VEVENT
BEGIN:VEVENT
DTSTART;TZID=America/Los_Angeles:20251203T190000
DTEND;TZID=America/Los_Angeles:20251203T220000
DTSTAMP:20260420T091951
CREATED:20251123T003125Z
LAST-MODIFIED:20251123T003125Z
UID:1208-1764788400-1764799200@zclub.elementor.cloud
SUMMARY:Jazz Jam with Doug Macdonald
DESCRIPTION:
URL:https://zclub.elementor.cloud/event/jazz-jam-with-doug-macdonald-13/
LOCATION:Z Club Joshua Tree\, 61877 29 Palms Hwy.\, Joshua Tree\, CA\, 92252\, United States
CATEGORIES:Jazz Jam Session
ATTACH;FMTTYPE=image/jpeg:https://zclub.elementor.cloud/wp-content/uploads/2025/11/IMG_6649.jpg
END:VEVENT
BEGIN:VEVENT
DTSTART;TZID=America/Los_Angeles:20251126T190000
DTEND;TZID=America/Los_Angeles:20251126T220000
DTSTAMP:20260420T091951
CREATED:20251103T235500Z
LAST-MODIFIED:20251103T235534Z
UID:1173-1764183600-1764194400@zclub.elementor.cloud
SUMMARY:Jazz Jam with Doug Macdonald
DESCRIPTION:Bring your axe!
URL:https://zclub.elementor.cloud/event/jazz-jam-with-doug-macdonald-12/
LOCATION:Z Club Joshua Tree\, 61877 29 Palms Hwy.\, Joshua Tree\, CA\, 92252\, United States
CATEGORIES:Jazz Jam Session,Joe City Garcia
ATTACH;FMTTYPE=image/jpeg:https://zclub.elementor.cloud/wp-content/uploads/2025/11/IMG_6649.jpg
END:VEVENT
BEGIN:VEVENT
DTSTART;TZID=America/Los_Angeles:20251119T190000
DTEND;TZID=America/Los_Angeles:20251119T220000
DTSTAMP:20260420T091951
CREATED:20251103T235148Z
LAST-MODIFIED:20251103T235148Z
UID:1171-1763578800-1763589600@zclub.elementor.cloud
SUMMARY:Jazz Jam with Doug Macdonald
DESCRIPTION:Bring your axe!
URL:https://zclub.elementor.cloud/event/jazz-jam-with-doug-macdonald-11/
LOCATION:Z Club Joshua Tree\, 61877 29 Palms Hwy.\, Joshua Tree\, CA\, 92252\, United States
CATEGORIES:Jazz Jam Session
ATTACH;FMTTYPE=image/jpeg:https://zclub.elementor.cloud/wp-content/uploads/2025/11/IMG_6649.jpg
END:VEVENT
BEGIN:VEVENT
DTSTART;TZID=America/Los_Angeles:20251112T190000
DTEND;TZID=America/Los_Angeles:20251112T220000
DTSTAMP:20260420T091951
CREATED:20251103T234950Z
LAST-MODIFIED:20251103T234950Z
UID:1169-1762974000-1762984800@zclub.elementor.cloud
SUMMARY:Jazz Jam with Doug Macdonald
DESCRIPTION:Bring your axe!
URL:https://zclub.elementor.cloud/event/jazz-jam-with-doug-macdonald-10/
LOCATION:Z Club Joshua Tree\, 61877 29 Palms Hwy.\, Joshua Tree\, CA\, 92252\, United States
CATEGORIES:Jazz Jam Session
ATTACH;FMTTYPE=image/jpeg:https://zclub.elementor.cloud/wp-content/uploads/2025/11/IMG_6649.jpg
END:VEVENT
BEGIN:VEVENT
DTSTART;TZID=America/Los_Angeles:20251105T190000
DTEND;TZID=America/Los_Angeles:20251105T220000
DTSTAMP:20260420T091951
CREATED:20251103T233727Z
LAST-MODIFIED:20251103T233727Z
UID:1160-1762369200-1762380000@zclub.elementor.cloud
SUMMARY:Jazz Jam with Doug Macdonald Trio
DESCRIPTION:Bring your axe!
URL:https://zclub.elementor.cloud/event/jazz-jam-with-doug-macdonald-trio/
LOCATION:Z Club Joshua Tree\, 61877 29 Palms Hwy.\, Joshua Tree\, CA\, 92252\, United States
CATEGORIES:Jazz Jam Session
ATTACH;FMTTYPE=image/jpeg:https://zclub.elementor.cloud/wp-content/uploads/2025/11/IMG_6649.jpg
END:VEVENT
BEGIN:VEVENT
DTSTART;TZID=America/Los_Angeles:20251029T190000
DTEND;TZID=America/Los_Angeles:20251029T220000
DTSTAMP:20260420T091951
CREATED:20251006T040233Z
LAST-MODIFIED:20251006T040233Z
UID:1122-1761764400-1761775200@zclub.elementor.cloud
SUMMARY:Jazz Jam with Doug Macdonald
DESCRIPTION:Bring your axe!
URL:https://zclub.elementor.cloud/event/jazz-jam-with-doug-macdonald-9/
LOCATION:Z Club Joshua Tree\, 61877 29 Palms Hwy.\, Joshua Tree\, CA\, 92252\, United States
CATEGORIES:Jazz Jam Session
ATTACH;FMTTYPE=image/jpeg:https://zclub.elementor.cloud/wp-content/uploads/2025/09/IMG_4986-2.jpg
END:VEVENT
BEGIN:VEVENT
DTSTART;TZID=America/Los_Angeles:20251022T190000
DTEND;TZID=America/Los_Angeles:20251022T220000
DTSTAMP:20260420T091951
CREATED:20251006T040040Z
LAST-MODIFIED:20251006T040040Z
UID:1120-1761159600-1761170400@zclub.elementor.cloud
SUMMARY:Jazz Jam with Doug Macdonald
DESCRIPTION:Bring your axe!
URL:https://zclub.elementor.cloud/event/jazz-jam-with-doug-macdonald-8/
LOCATION:Z Club Joshua Tree\, 61877 29 Palms Hwy.\, Joshua Tree\, CA\, 92252\, United States
CATEGORIES:Jazz Jam Session
ATTACH;FMTTYPE=image/jpeg:https://zclub.elementor.cloud/wp-content/uploads/2025/09/IMG_4986-2.jpg
END:VEVENT
BEGIN:VEVENT
DTSTART;TZID=America/Los_Angeles:20251015T190000
DTEND;TZID=America/Los_Angeles:20251015T220000
DTSTAMP:20260420T091951
CREATED:20251006T035858Z
LAST-MODIFIED:20251006T035858Z
UID:1118-1760554800-1760565600@zclub.elementor.cloud
SUMMARY:Jazz Jam with Doug Macdonald
DESCRIPTION:Bring your axe!
URL:https://zclub.elementor.cloud/event/jazz-jam-with-doug-macdonald-7/
LOCATION:Z Club Joshua Tree\, 61877 29 Palms Hwy.\, Joshua Tree\, CA\, 92252\, United States
CATEGORIES:Jazz Jam Session
ATTACH;FMTTYPE=image/jpeg:https://zclub.elementor.cloud/wp-content/uploads/2025/09/IMG_4986-2.jpg
END:VEVENT
BEGIN:VEVENT
DTSTART;TZID=America/Los_Angeles:20251008T190000
DTEND;TZID=America/Los_Angeles:20251008T220000
DTSTAMP:20260420T091951
CREATED:20251006T035644Z
LAST-MODIFIED:20251006T035644Z
UID:1116-1759950000-1759960800@zclub.elementor.cloud
SUMMARY:Jazz Jam with Doug Macdonald
DESCRIPTION:Bring your axe!
URL:https://zclub.elementor.cloud/event/jazz-jam-with-doug-macdonald-6/
LOCATION:Z Club Joshua Tree\, 61877 29 Palms Hwy.\, Joshua Tree\, CA\, 92252\, United States
CATEGORIES:Jazz Jam Session
ATTACH;FMTTYPE=image/jpeg:https://zclub.elementor.cloud/wp-content/uploads/2025/09/IMG_4986-2.jpg
END:VEVENT
BEGIN:VEVENT
DTSTART;TZID=America/Los_Angeles:20251001T190000
DTEND;TZID=America/Los_Angeles:20251001T220000
DTSTAMP:20260420T091951
CREATED:20250928T234249Z
LAST-MODIFIED:20250928T234309Z
UID:1095-1759345200-1759356000@zclub.elementor.cloud
SUMMARY:Jazz Jam with Doug Macdonald
DESCRIPTION:Bring your axe!
URL:https://zclub.elementor.cloud/event/jazz-jam-with-doug-macdonald-5/
LOCATION:Z Club Joshua Tree\, 61877 29 Palms Hwy.\, Joshua Tree\, CA\, 92252\, United States
CATEGORIES:Doug Legacy,Jazz Jam Session
ATTACH;FMTTYPE=image/jpeg:https://zclub.elementor.cloud/wp-content/uploads/2025/09/IMG_4986-2.jpg
END:VEVENT
BEGIN:VEVENT
DTSTART;TZID=America/Los_Angeles:20250924T190000
DTEND;TZID=America/Los_Angeles:20250924T220000
DTSTAMP:20260420T091951
CREATED:20250920T212908Z
LAST-MODIFIED:20250920T212908Z
UID:1075-1758740400-1758751200@zclub.elementor.cloud
SUMMARY:Jazz Jam with Doug Macdonald
DESCRIPTION:
URL:https://zclub.elementor.cloud/event/jazz-jam-with-doug-macdonald-4/
LOCATION:Z Club Joshua Tree\, 61877 29 Palms Hwy.\, Joshua Tree\, CA\, 92252\, United States
CATEGORIES:Jazz Jam Session
ATTACH;FMTTYPE=image/jpeg:https://zclub.elementor.cloud/wp-content/uploads/2025/09/IMG_4986-2.jpg
END:VEVENT
BEGIN:VEVENT
DTSTART;TZID=America/Los_Angeles:20250917T190000
DTEND;TZID=America/Los_Angeles:20250917T220000
DTSTAMP:20260420T091951
CREATED:20250913T221536Z
LAST-MODIFIED:20250913T221536Z
UID:1064-1758135600-1758146400@zclub.elementor.cloud
SUMMARY:Jazz Jam with Doug Macdonald
DESCRIPTION:
URL:https://zclub.elementor.cloud/event/jazz-jam-with-doug-macdonald-3/
LOCATION:Z Club Joshua Tree\, 61877 29 Palms Hwy.\, Joshua Tree\, CA\, 92252\, United States
CATEGORIES:Jazz Jam Session
ATTACH;FMTTYPE=image/jpeg:https://zclub.elementor.cloud/wp-content/uploads/2025/09/IMG_4986-2.jpg
END:VEVENT
BEGIN:VEVENT
DTSTART;TZID=America/Los_Angeles:20250910T190000
DTEND;TZID=America/Los_Angeles:20250910T220000
DTSTAMP:20260420T091951
CREATED:20250908T231722Z
LAST-MODIFIED:20250908T231722Z
UID:1041-1757530800-1757541600@zclub.elementor.cloud
SUMMARY:JAZZ JAM with Doug Macdonald
DESCRIPTION:First set by Doug Macdonald trio then join in with your preferred song and key! Bring your axe for a midweek jam.
URL:https://zclub.elementor.cloud/event/jazz-jam-with-doug-macdonald-2/
LOCATION:Z Club Joshua Tree\, 61877 29 Palms Hwy.\, Joshua Tree\, CA\, 92252\, United States
CATEGORIES:Jazz Jam Session
ATTACH;FMTTYPE=image/jpeg:https://zclub.elementor.cloud/wp-content/uploads/2025/09/IMG_4986-2.jpg
END:VEVENT
END:VCALENDAR