BEGIN:VCALENDAR
VERSION:2.0
PRODID:-//Z Club Joshua Tree • Live Music and Cocktails - ECPv6.14.0//NONSGML v1.0//EN
CALSCALE:GREGORIAN
METHOD:PUBLISH
X-ORIGINAL-URL:https://zclub.elementor.cloud
X-WR-CALDESC:Events for Z Club Joshua Tree • Live Music and Cocktails
REFRESH-INTERVAL;VALUE=DURATION:PT1H
X-Robots-Tag:noindex
X-PUBLISHED-TTL:PT1H
BEGIN:VTIMEZONE
TZID:America/Los_Angeles
BEGIN:DAYLIGHT
TZOFFSETFROM:-0800
TZOFFSETTO:-0700
TZNAME:PDT
DTSTART:20250309T100000
END:DAYLIGHT
BEGIN:STANDARD
TZOFFSETFROM:-0700
TZOFFSETTO:-0800
TZNAME:PST
DTSTART:20251102T090000
END:STANDARD
END:VTIMEZONE
BEGIN:VEVENT
DTSTART;TZID=America/Los_Angeles:20250804T190000
DTEND;TZID=America/Los_Angeles:20250804T220000
DTSTAMP:20260420T154750
CREATED:20250802T042252Z
LAST-MODIFIED:20250802T042252Z
UID:963-1754334000-1754344800@zclub.elementor.cloud
SUMMARY:Help the Band Get it Right Night
DESCRIPTION:Join us on Monday while our house band practices! Drink special when we mess up because everything sounds better after a couple cocktails 😉
URL:https://zclub.elementor.cloud/event/help-the-band-get-it-right-night/
LOCATION:Z Club Joshua Tree\, 61877 29 Palms Hwy.\, Joshua Tree\, CA\, 92252\, United States
CATEGORIES:Help the Band Get it Right
ATTACH;FMTTYPE=image/jpeg:https://zclub.elementor.cloud/wp-content/uploads/2025/08/IMG_4229-4.jpg
END:VEVENT
END:VCALENDAR